FILENAME: O4810720.NES.1116722.tif
QUADRANGLE_NAME: TATTNALL
QUADRANT: NE
WEST_LONGITUDE: -107 33 45.00000
EAST_LONGITUDE: -107 30 0.00000
NORTH_LATITUDE: 48 45 0.00000
SOUTH_LATITUDE: 48 41 15.00000
PRODUCTION_DATE: 2000 11 7
RASTER_ORDER: LEFT_RIGHT/TOP_BOTTOM
BAND_ORGANIZATION: SINGLE FILE
BAND_CONTENT: BLACK&WHITE
BAND_CONTENT: UNDEFINED
BAND_CONTENT: UNDEFINED
BITS_PER_PIXEL: 8
SAMPLES_AND_LINES: 5477 7705
HORIZONTAL_DATUM: NAD83
HORIZONTAL_COORDINATE_SYSTEM: UTM
COORDINATE_ZONE: 13
HORIZONTAL_UNITS: METERS
HORIZONTAL_RESOLUTION: 1.00000
SECONDARY_HORIZONTAL_DATUM: NAD27
XY_ORIGIN: 311062.00000 5403136.00000
SECONDARY_XY_ORIGIN: 311103.19500 5402914.86300
NATION: US
NATION: "SCIENCE
STATE: MT
NW_QUAD_CORNER_XY: 311644.16000 5402832.82800
NE_QUAD_CORNER_XY: 316237.82200 5402680.14900
SE_QUAD_CORNERY_XY: 316009.90000 5395733.51200
SW_QUAD_CORNER_XY: 311410.53400 5395886.23500
SECONDARY_NW_QUAD_XY: 311638.14100 5402613.93100
SECONDARY_NE_QUAD_XY: 316231.94900 5402461.24700
SECONDARY_SE_QUAD_XY: 316004.02700 5395514.61500
SECONDARY_SW_QUAD_XY: 311404.51500 5395667.34300
RMSE_XY: 0.90000
IMAGE_SOURCE: BLACK AND WHITE FILM
SOURCE_IMAGE_ID: NAPP 9148 162
SOURCE_IMAGE_DATE: 1996 08 27
SOURCE_IMAGE_ID: NAPP 9125 033
SOURCE_IMAGE_DATE: 1996 06 20
SOURCE_IMAGE_ID: NAPP 9148 160
SOURCE_IMAGE_DATE: 1996 08 27
SOURCE_DEM_DATE: 1967 00 00
AGENCY: WESTERN MAPPING CENTER (WMC)
PRODUCER: UNDEFINED
PRODUCTION_SYSTEM: GIS/MAGIC
COMPRESSION: UNDEFINED
STANDARD_VERSION: 1996 12
METADATA_DATE: 2000 11 15
DATA_FILE_SIZE: 42205762
BYTE_COUNT: 5477
