FILENAME: O4810721.SES.1116568.tif
QUADRANGLE_NAME: FORKS
QUADRANT: SE
WEST_LONGITUDE: -107 26 15.00000
EAST_LONGITUDE: -107 22 30.00000
NORTH_LATITUDE: 48 41 15.00000
SOUTH_LATITUDE: 48 37 30.00000
PRODUCTION_DATE: 2000 11 8
RASTER_ORDER: LEFT_RIGHT/TOP_BOTTOM
BAND_ORGANIZATION: SINGLE FILE
BAND_CONTENT: BLACK&WHITE
BAND_CONTENT: UNDEFINED
BAND_CONTENT: UNDEFINED
BITS_PER_PIXEL: 8
SAMPLES_AND_LINES: 5471 7697
HORIZONTAL_DATUM: NAD83
HORIZONTAL_COORDINATE_SYSTEM: UTM
COORDINATE_ZONE: 13
HORIZONTAL_UNITS: METERS
HORIZONTAL_RESOLUTION: 1.00000
SECONDARY_HORIZONTAL_DATUM: NAD27
XY_ORIGIN: 320039.00000 5395887.00000
SECONDARY_XY_ORIGIN: 320080.19600 5395666.09900
NATION: US
NATION: "SCIENCE
STATE: MT
NW_QUAD_CORNER_XY: 320609.29400 5395584.56400
NE_QUAD_CORNER_XY: 325208.71500 5395439.39100
SE_QUAD_CORNERY_XY: 324992.40900 5388492.73300
SW_QUAD_CORNER_XY: 320387.29000 5388637.94700
SECONDARY_NW_QUAD_XY: 320603.56800 5395365.66300
SECONDARY_NE_QUAD_XY: 325203.13600 5395220.48500
SECONDARY_SE_QUAD_XY: 324986.83000 5388273.83300
SECONDARY_SW_QUAD_XY: 320381.56500 5388419.05200
RMSE_XY: 0.80000
IMAGE_SOURCE: BLACK AND WHITE FILM
SOURCE_IMAGE_ID: NAPP 9127 118
SOURCE_IMAGE_DATE: 1996 07 15
SOURCE_IMAGE_ID: NAPP 9127 120
SOURCE_IMAGE_DATE: 1996 07 15
SOURCE_DEM_DATE: 1974 00 00
AGENCY: WESTERN MAPPING CENTER (WMC)
PRODUCER: UNDEFINED
PRODUCTION_SYSTEM: GIS/MAGIC
COMPRESSION: UNDEFINED
STANDARD_VERSION: 1996 12
METADATA_DATE: 2000 11 15
DATA_FILE_SIZE: 42115758
BYTE_COUNT: 5471
