FILENAME: O4810722.SWS.1116609.tif
QUADRANGLE_NAME: PORCUPINE COULEE
QUADRANT: SW
WEST_LONGITUDE: -107 22 30.00000
EAST_LONGITUDE: -107 18 45.00000
NORTH_LATITUDE: 48 41 15.00000
SOUTH_LATITUDE: 48 37 30.00000
PRODUCTION_DATE: 2000 11 8
RASTER_ORDER: LEFT_RIGHT/TOP_BOTTOM
BAND_ORGANIZATION: SINGLE FILE
BAND_CONTENT: BLACK&WHITE
BAND_CONTENT: UNDEFINED
BAND_CONTENT: UNDEFINED
BITS_PER_PIXEL: 8
SAMPLES_AND_LINES: 5466 7693
HORIZONTAL_DATUM: NAD83
HORIZONTAL_COORDINATE_SYSTEM: UTM
COORDINATE_ZONE: 13
HORIZONTAL_UNITS: METERS
HORIZONTAL_RESOLUTION: 1.00000
SECONDARY_HORIZONTAL_DATUM: NAD27
XY_ORIGIN: 324644.00000 5395742.00000
SECONDARY_XY_ORIGIN: 324685.09400 5395520.97700
NATION: US
NATION: "SCIENCE
STATE: MT
NW_QUAD_CORNER_XY: 325208.71500 5395439.39100
NE_QUAD_CORNER_XY: 329808.16200 5395297.99100
SE_QUAD_CORNERY_XY: 329597.55400 5388351.29500
SW_QUAD_CORNER_XY: 324992.40900 5388492.73300
SECONDARY_NW_QUAD_XY: 325203.13600 5395220.48500
SECONDARY_NE_QUAD_XY: 329802.73000 5395079.08100
SECONDARY_SE_QUAD_XY: 329592.12200 5388132.39000
SECONDARY_SW_QUAD_XY: 324986.83000 5388273.83300
RMSE_XY: 0.90000
IMAGE_SOURCE: BLACK AND WHITE FILM
SOURCE_IMAGE_ID: NAPP 9127 103
SOURCE_IMAGE_DATE: 1996 07 15
SOURCE_IMAGE_ID: NAPP 9127 105
SOURCE_IMAGE_DATE: 1996 07 15
SOURCE_DEM_DATE: 1974 00 00
AGENCY: WESTERN MAPPING CENTER (WMC)
PRODUCER: UNDEFINED
PRODUCTION_SYSTEM: GIS/MAGIC
COMPRESSION: UNDEFINED
STANDARD_VERSION: 1996 12
METADATA_DATE: 2000 11 15
DATA_FILE_SIZE: 42055404
BYTE_COUNT: 5466
