FILENAME: O4810723.SES.1116640.tif
QUADRANGLE_NAME: GENEVIEVE
QUADRANT: SE
WEST_LONGITUDE: -107 11 15.00000
EAST_LONGITUDE: -107 7 30.00000
NORTH_LATITUDE: 48 41 15.00000
SOUTH_LATITUDE: 48 37 30.00000
PRODUCTION_DATE: 2000 11 8
RASTER_ORDER: LEFT_RIGHT/TOP_BOTTOM
BAND_ORGANIZATION: SINGLE FILE
BAND_CONTENT: BLACK&WHITE
BAND_CONTENT: UNDEFINED
BAND_CONTENT: UNDEFINED
BITS_PER_PIXEL: 8
SAMPLES_AND_LINES: 5448 7683
HORIZONTAL_DATUM: NAD83
HORIZONTAL_COORDINATE_SYSTEM: UTM
COORDINATE_ZONE: 13
HORIZONTAL_UNITS: METERS
HORIZONTAL_RESOLUTION: 1.00000
SECONDARY_HORIZONTAL_DATUM: NAD27
XY_ORIGIN: 338460.00000 5395330.00000
SECONDARY_XY_ORIGIN: 338500.78900 5395108.59100
NATION: US
NATION: "SCIENCE
STATE: MT
NW_QUAD_CORNER_XY: 339007.13400 5395026.51400
NE_QUAD_CORNER_XY: 343606.65800 5394896.43600
SE_QUAD_CORNERY_XY: 343413.13900 5387949.62800
SW_QUAD_CORNER_XY: 338807.92000 5388079.74200
SECONDARY_NW_QUAD_XY: 339001.99600 5394807.59500
SECONDARY_NE_QUAD_XY: 343601.66600 5394677.51300
SECONDARY_SE_QUAD_XY: 343408.14800 5387730.71100
SECONDARY_SW_QUAD_XY: 338802.78100 5387860.82900
RMSE_XY: 1.00000
IMAGE_SOURCE: BLACK AND WHITE FILM
SOURCE_IMAGE_ID: NAPP 9101 188
SOURCE_IMAGE_DATE: 1996 07 15
SOURCE_IMAGE_ID: NAPP 9101 280
SOURCE_IMAGE_DATE: 1996 07 15
SOURCE_DEM_DATE: 1974 00 00
AGENCY: WESTERN MAPPING CENTER (WMC)
PRODUCER: UNDEFINED
PRODUCTION_SYSTEM: GIS/MAGIC
COMPRESSION: UNDEFINED
STANDARD_VERSION: 1996 12
METADATA_DATE: 2000 11 30
DATA_FILE_SIZE: 41862432
BYTE_COUNT: 5448
