FILENAME: O4810725.NWS.1112659.tif
QUADRANGLE_NAME: GARLAND CREEK
QUADRANT: NW
WEST_LONGITUDE: -108 0 0.00000
EAST_LONGITUDE: -107 56 15.00000
NORTH_LATITUDE: 48 37 30.00000
SOUTH_LATITUDE: 48 33 45.00000
PRODUCTION_DATE: 2000 11 7
RASTER_ORDER: LEFT_RIGHT/TOP_BOTTOM
BAND_ORGANIZATION: SINGLE FILE
BAND_CONTENT: BLACK&WHITE
BAND_CONTENT: UNDEFINED
BAND_CONTENT: UNDEFINED
BITS_PER_PIXEL: 8
SAMPLES_AND_LINES: 5531 7730
HORIZONTAL_DATUM: NAD83
HORIZONTAL_COORDINATE_SYSTEM: UTM
COORDINATE_ZONE: 13
HORIZONTAL_UNITS: METERS
HORIZONTAL_RESOLUTION: 1.00000
SECONDARY_HORIZONTAL_DATUM: NAD27
XY_ORIGIN: 278318.00000 5390417.00000
SECONDARY_XY_ORIGIN: 278360.47400 5390195.97300
NATION: US
NATION: "SCIENCE
STATE: MT
NW_QUAD_CORNER_XY: 278942.51600 5390114.80800
NE_QUAD_CORNER_XY: 283547.36800 5389935.60300
SE_QUAD_CORNERY_XY: 283280.02500 5382989.40400
SW_QUAD_CORNER_XY: 278669.47700 5383168.65800
SECONDARY_NW_QUAD_XY: 278935.46900 5389895.95900
SECONDARY_NE_QUAD_XY: 283540.46700 5389716.74900
SECONDARY_SE_QUAD_XY: 283273.12500 5382770.55600
SECONDARY_SW_QUAD_XY: 278662.43000 5382949.81600
RMSE_XY: 1.10000
IMAGE_SOURCE: BLACK AND WHITE FILM
SOURCE_IMAGE_ID: NAPP 9157 235
SOURCE_IMAGE_DATE: 1997 09 05
SOURCE_IMAGE_ID: NAPP 9157 234
SOURCE_IMAGE_DATE: 1997 09 05
SOURCE_DEM_DATE: 1975 00 00
AGENCY: WESTERN MAPPING CENTER (WMC)
PRODUCER: UNDEFINED
PRODUCTION_SYSTEM: GIS/MAGIC
COMPRESSION: UNDEFINED
STANDARD_VERSION: 1996 12
METADATA_DATE: 2000 11 15
DATA_FILE_SIZE: 42760161
BYTE_COUNT: 5531
