FILENAME: O4810726.SES.1112708.tif
QUADRANGLE_NAME: FANNY HILL
QUADRANT: SE
WEST_LONGITUDE: -107 48 45.00000
EAST_LONGITUDE: -107 45 0.00000
NORTH_LATITUDE: 48 33 45.00000
SOUTH_LATITUDE: 48 30 0.00000
PRODUCTION_DATE: 2000 11 7
RASTER_ORDER: LEFT_RIGHT/TOP_BOTTOM
BAND_ORGANIZATION: SINGLE FILE
BAND_CONTENT: BLACK&WHITE
BAND_CONTENT: UNDEFINED
BAND_CONTENT: UNDEFINED
BITS_PER_PIXEL: 8
SAMPLES_AND_LINES: 5518 7719
HORIZONTAL_DATUM: NAD83
HORIZONTAL_COORDINATE_SYSTEM: UTM
COORDINATE_ZONE: 13
HORIZONTAL_UNITS: METERS
HORIZONTAL_RESOLUTION: 1.00000
SECONDARY_HORIZONTAL_DATUM: NAD27
XY_ORIGIN: 291895.00000 5382945.00000
SECONDARY_XY_ORIGIN: 291937.38700 5382724.29400
NATION: US
NATION: "SCIENCE
STATE: MT
NW_QUAD_CORNER_XY: 292501.21600 5382642.23300
NE_QUAD_CORNER_XY: 297111.85800 5382474.31500
SE_QUAD_CORNERY_XY: 296861.84500 5375528.03300
SW_QUAD_CORNER_XY: 292245.51300 5375695.99600
SECONDARY_NW_QUAD_XY: 292494.60900 5382423.37400
SECONDARY_NE_QUAD_XY: 297105.39800 5382255.45100
SECONDARY_SE_QUAD_XY: 296855.38500 5375309.17700
SECONDARY_SW_QUAD_XY: 292238.90700 5375477.14500
RMSE_XY: 1.40000
IMAGE_SOURCE: BLACK AND WHITE FILM
SOURCE_IMAGE_ID: NAPP 9148 096
SOURCE_IMAGE_DATE: 1996 08 27
SOURCE_IMAGE_ID: NAPP 9148 095
SOURCE_IMAGE_DATE: 1996 08 27
SOURCE_DEM_DATE: 1975 00 00
AGENCY: WESTERN MAPPING CENTER (WMC)
PRODUCER: UNDEFINED
PRODUCTION_SYSTEM: GIS/MAGIC
COMPRESSION: UNDEFINED
STANDARD_VERSION: 1996 12
METADATA_DATE: 2000 11 15
DATA_FILE_SIZE: 42598960
BYTE_COUNT: 5518
