FILENAME: O4810727.SES.1116676.tif
QUADRANGLE_NAME: HEWITT LAKE SW
QUADRANT: SE
WEST_LONGITUDE: -107 41 15.00000
EAST_LONGITUDE: -107 37 30.00000
NORTH_LATITUDE: 48 33 45.00000
SOUTH_LATITUDE: 48 30 0.00000
PRODUCTION_DATE: 2000 11 7
RASTER_ORDER: LEFT_RIGHT/TOP_BOTTOM
BAND_ORGANIZATION: SINGLE FILE
BAND_CONTENT: BLACK&WHITE
BAND_CONTENT: UNDEFINED
BAND_CONTENT: UNDEFINED
BITS_PER_PIXEL: 8
SAMPLES_AND_LINES: 5507 7711
HORIZONTAL_DATUM: NAD83
HORIZONTAL_COORDINATE_SYSTEM: UTM
COORDINATE_ZONE: 13
HORIZONTAL_UNITS: METERS
HORIZONTAL_RESOLUTION: 1.00000
SECONDARY_HORIZONTAL_DATUM: NAD27
XY_ORIGIN: 301128.00000 5382612.00000
SECONDARY_XY_ORIGIN: 301170.18200 5382391.42800
NATION: US
NATION: "SCIENCE
STATE: MT
NW_QUAD_CORNER_XY: 301722.53000 5382310.17600
NE_QUAD_CORNER_XY: 306333.23100 5382149.81400
SE_QUAD_CORNERY_XY: 306094.59500 5375203.44500
SW_QUAD_CORNER_XY: 301478.20500 5375363.85000
SECONDARY_NW_QUAD_XY: 301716.21700 5382091.30700
SECONDARY_NE_QUAD_XY: 306327.06500 5381930.94000
SECONDARY_SE_QUAD_XY: 306088.42900 5374984.57800
SECONDARY_SW_QUAD_XY: 301471.89300 5375144.98800
RMSE_XY: 1.10000
IMAGE_SOURCE: BLACK AND WHITE FILM
SOURCE_IMAGE_ID: NAPP 9131 078
SOURCE_IMAGE_DATE: 1996 07 29
SOURCE_DEM_DATE: 1967 00 00
AGENCY: WESTERN MAPPING CENTER (WMC)
PRODUCER: UNDEFINED
PRODUCTION_SYSTEM: GIS/MAGIC
COMPRESSION: UNDEFINED
STANDARD_VERSION: 1996 12
METADATA_DATE: 2000 11 15
DATA_FILE_SIZE: 42469984
BYTE_COUNT: 5507
