FILENAME: O4810727.NES.1116674.tif
QUADRANGLE_NAME: HEWITT LAKE SW
QUADRANT: NE
WEST_LONGITUDE: -107 41 15.00000
EAST_LONGITUDE: -107 37 30.00000
NORTH_LATITUDE: 48 37 30.00000
SOUTH_LATITUDE: 48 33 45.00000
PRODUCTION_DATE: 2000 11 7
RASTER_ORDER: LEFT_RIGHT/TOP_BOTTOM
BAND_ORGANIZATION: SINGLE FILE
BAND_CONTENT: BLACK&WHITE
BAND_CONTENT: UNDEFINED
BAND_CONTENT: UNDEFINED
BITS_PER_PIXEL: 8
SAMPLES_AND_LINES: 5501 7712
HORIZONTAL_DATUM: NAD83
HORIZONTAL_COORDINATE_SYSTEM: UTM
COORDINATE_ZONE: 13
HORIZONTAL_UNITS: METERS
HORIZONTAL_RESOLUTION: 1.00000
SECONDARY_HORIZONTAL_DATUM: NAD27
XY_ORIGIN: 301373.00000 5389559.00000
SECONDARY_XY_ORIGIN: 301414.97000 5389338.18300
NATION: US
NATION: "SCIENCE
STATE: MT
NW_QUAD_CORNER_XY: 301967.09100 5389256.56100
NE_QUAD_CORNER_XY: 306572.09800 5389096.24300
SE_QUAD_CORNERY_XY: 306333.23100 5382149.81400
SW_QUAD_CORNER_XY: 301722.53000 5382310.17600
SECONDARY_NW_QUAD_XY: 301960.77800 5389037.68500
SECONDARY_NE_QUAD_XY: 306565.93200 5388877.36200
SECONDARY_SE_QUAD_XY: 306327.06500 5381930.94000
SECONDARY_SW_QUAD_XY: 301716.21700 5382091.30700
RMSE_XY: 1.00000
IMAGE_SOURCE: BLACK AND WHITE FILM
SOURCE_IMAGE_ID: NAPP 9131 076
SOURCE_IMAGE_DATE: 1996 07 29
SOURCE_DEM_DATE: 1967 00 00
AGENCY: WESTERN MAPPING CENTER (WMC)
PRODUCER: UNDEFINED
PRODUCTION_SYSTEM: GIS/MAGIC
COMPRESSION: UNDEFINED
STANDARD_VERSION: 1996 12
METADATA_DATE: 2000 11 15
DATA_FILE_SIZE: 42429213
BYTE_COUNT: 5501
