FILENAME: O4810728.NWS.1116727.tif
QUADRANGLE_NAME: HEWITT LAKE
QUADRANT: NW
WEST_LONGITUDE: -107 37 30.00000
EAST_LONGITUDE: -107 33 45.00000
NORTH_LATITUDE: 48 37 30.00000
SOUTH_LATITUDE: 48 33 45.00000
PRODUCTION_DATE: 2000 11 10
RASTER_ORDER: LEFT_RIGHT/TOP_BOTTOM
BAND_ORGANIZATION: SINGLE FILE
BAND_CONTENT: BLACK&WHITE
BAND_CONTENT: UNDEFINED
BAND_CONTENT: UNDEFINED
BITS_PER_PIXEL: 8
SAMPLES_AND_LINES: 5496 7708
HORIZONTAL_DATUM: NAD83
HORIZONTAL_COORDINATE_SYSTEM: UTM
COORDINATE_ZONE: 13
HORIZONTAL_UNITS: METERS
HORIZONTAL_RESOLUTION: 1.00000
SECONDARY_HORIZONTAL_DATUM: NAD27
XY_ORIGIN: 305983.00000 5389399.00000
SECONDARY_XY_ORIGIN: 306024.83500 5389178.26900
NATION: US
NATION: "SCIENCE
STATE: MT
NW_QUAD_CORNER_XY: 306572.09800 5389096.24300
NE_QUAD_CORNER_XY: 311177.13400 5388939.70200
SE_QUAD_CORNERY_XY: 310943.96000 5381993.23000
SW_QUAD_CORNER_XY: 306333.23100 5382149.81400
SECONDARY_NW_QUAD_XY: 306565.93200 5388877.36200
SECONDARY_NE_QUAD_XY: 311171.11500 5388720.81600
SECONDARY_SE_QUAD_XY: 310937.94100 5381774.35100
SECONDARY_SW_QUAD_XY: 306327.06500 5381930.94000
RMSE_XY: 1.00000
IMAGE_SOURCE: BLACK AND WHITE FILM
SOURCE_IMAGE_ID: NAPP 9125 029
SOURCE_IMAGE_DATE: 1996 06 20
SOURCE_DEM_DATE: 1967 00 00
AGENCY: WESTERN MAPPING CENTER (WMC)
PRODUCER: UNDEFINED
PRODUCTION_SYSTEM: GIS/MAGIC
COMPRESSION: UNDEFINED
STANDARD_VERSION: 1996 12
METADATA_DATE: 2000 11 15
DATA_FILE_SIZE: 42368664
BYTE_COUNT: 5496
