FILENAME: O4810729.SWS.1116573.tif
QUADRANGLE_NAME: COLE
QUADRANT: SW
WEST_LONGITUDE: -107 30 0.00000
EAST_LONGITUDE: -107 26 15.00000
NORTH_LATITUDE: 48 33 45.00000
SOUTH_LATITUDE: 48 30 0.00000
PRODUCTION_DATE: 2000 11 10
RASTER_ORDER: LEFT_RIGHT/TOP_BOTTOM
BAND_ORGANIZATION: SINGLE FILE
BAND_CONTENT: BLACK&WHITE
BAND_CONTENT: UNDEFINED
BAND_CONTENT: UNDEFINED
BITS_PER_PIXEL: 8
SAMPLES_AND_LINES: 5489 7700
HORIZONTAL_DATUM: NAD83
HORIZONTAL_COORDINATE_SYSTEM: UTM
COORDINATE_ZONE: 13
HORIZONTAL_UNITS: METERS
HORIZONTAL_RESOLUTION: 1.00000
SECONDARY_HORIZONTAL_DATUM: NAD27
XY_ORIGIN: 314978.00000 5382142.00000
SECONDARY_XY_ORIGIN: 315019.85500 5381921.72100
NATION: US
NATION: "SCIENCE
STATE: MT
NW_QUAD_CORNER_XY: 315554.71800 5381840.42300
NE_QUAD_CORNER_XY: 320165.50200 5381691.39300
SE_QUAD_CORNERY_XY: 319943.92900 5374744.90000
SW_QUAD_CORNER_XY: 315327.45800 5374893.97000
SECONDARY_NW_QUAD_XY: 315548.84500 5381621.53900
SECONDARY_NE_QUAD_XY: 320159.77700 5381472.50400
SECONDARY_SE_QUAD_XY: 319938.20400 5374526.01900
SECONDARY_SW_QUAD_XY: 315321.58600 5374675.09400
RMSE_XY: 1.30000
IMAGE_SOURCE: BLACK AND WHITE FILM
SOURCE_IMAGE_ID: NAPP 9127 205
SOURCE_IMAGE_DATE: 1996 07 15
SOURCE_DEM_DATE: 1974 00 00
AGENCY: WESTERN MAPPING CENTER (WMC)
PRODUCER: UNDEFINED
PRODUCTION_SYSTEM: GIS/MAGIC
COMPRESSION: UNDEFINED
STANDARD_VERSION: 1996 12
METADATA_DATE: 2000 11 15
DATA_FILE_SIZE: 42270789
BYTE_COUNT: 5489
