FILENAME: O4810730.NWS.1116611.tif
QUADRANGLE_NAME: DOUBLE S HILL
QUADRANT: NW
WEST_LONGITUDE: -107 22 30.00000
EAST_LONGITUDE: -107 18 45.00000
NORTH_LATITUDE: 48 37 30.00000
SOUTH_LATITUDE: 48 33 45.00000
PRODUCTION_DATE: 2000 11 10
RASTER_ORDER: LEFT_RIGHT/TOP_BOTTOM
BAND_ORGANIZATION: SINGLE FILE
BAND_CONTENT: BLACK&WHITE
BAND_CONTENT: UNDEFINED
BAND_CONTENT: UNDEFINED
BITS_PER_PIXEL: 8
SAMPLES_AND_LINES: 5471 7693
HORIZONTAL_DATUM: NAD83
HORIZONTAL_COORDINATE_SYSTEM: UTM
COORDINATE_ZONE: 13
HORIZONTAL_UNITS: METERS
HORIZONTAL_RESOLUTION: 1.00000
SECONDARY_HORIZONTAL_DATUM: NAD27
XY_ORIGIN: 324428.00000 5388795.00000
SECONDARY_XY_ORIGIN: 324469.34100 5388574.20000
NATION: US
NATION: "SCIENCE
STATE: MT
NW_QUAD_CORNER_XY: 324992.40900 5388492.73300
NE_QUAD_CORNER_XY: 329597.55400 5388351.29500
SE_QUAD_CORNERY_XY: 329387.15000 5381404.66200
SW_QUAD_CORNER_XY: 324776.31300 5381546.13900
SECONDARY_NW_QUAD_XY: 324986.83000 5388273.83300
SECONDARY_NE_QUAD_XY: 329592.12200 5388132.39000
SECONDARY_SE_QUAD_XY: 329381.71800 5381185.76400
SECONDARY_SW_QUAD_XY: 324770.73400 5381327.24600
RMSE_XY: 0.80000
IMAGE_SOURCE: BLACK AND WHITE FILM
SOURCE_IMAGE_ID: NAPP 9127 101
SOURCE_IMAGE_DATE: 1996 07 15
SOURCE_DEM_DATE: 1974 00 00
AGENCY: WESTERN MAPPING CENTER (WMC)
PRODUCER: UNDEFINED
PRODUCTION_SYSTEM: GIS/MAGIC
COMPRESSION: UNDEFINED
STANDARD_VERSION: 1996 12
METADATA_DATE: 2000 11 15
DATA_FILE_SIZE: 42093874
BYTE_COUNT: 5471
