FILENAME: O4810731.NES.1116626.tif
QUADRANGLE_NAME: BJORNBERG BRIDGE
QUADRANT: NE
WEST_LONGITUDE: -107 11 15.00000
EAST_LONGITUDE: -107 7 30.00000
NORTH_LATITUDE: 48 37 30.00000
SOUTH_LATITUDE: 48 33 45.00000
PRODUCTION_DATE: 2000 11 10
RASTER_ORDER: LEFT_RIGHT/TOP_BOTTOM
BAND_ORGANIZATION: SINGLE FILE
BAND_CONTENT: BLACK&WHITE
BAND_CONTENT: UNDEFINED
BAND_CONTENT: UNDEFINED
BITS_PER_PIXEL: 8
SAMPLES_AND_LINES: 5454 7683
HORIZONTAL_DATUM: NAD83
HORIZONTAL_COORDINATE_SYSTEM: UTM
COORDINATE_ZONE: 13
HORIZONTAL_UNITS: METERS
HORIZONTAL_RESOLUTION: 1.00000
SECONDARY_HORIZONTAL_DATUM: NAD27
XY_ORIGIN: 338261.00000 5388383.00000
SECONDARY_XY_ORIGIN: 338301.98900 5388161.77000
NATION: US
NATION: "SCIENCE
STATE: MT
NW_QUAD_CORNER_XY: 338807.92000 5388079.74200
NE_QUAD_CORNER_XY: 343413.13900 5387949.62800
SE_QUAD_CORNERY_XY: 343219.80800 5381002.88500
SW_QUAD_CORNER_XY: 338608.89800 5381133.03500
SECONDARY_NW_QUAD_XY: 338802.78100 5387860.82900
SECONDARY_NE_QUAD_XY: 343408.14800 5387730.71100
SECONDARY_SE_QUAD_XY: 343214.81700 5380783.97500
SECONDARY_SW_QUAD_XY: 338603.76000 5380914.12900
RMSE_XY: 1.10000
IMAGE_SOURCE: BLACK AND WHITE FILM
SOURCE_IMAGE_ID: NAPP 9101 190
SOURCE_IMAGE_DATE: 1996 07 15
SOURCE_DEM_DATE: 1974 00 00
AGENCY: WESTERN MAPPING CENTER (WMC)
PRODUCER: UNDEFINED
PRODUCTION_SYSTEM: GIS/MAGIC
COMPRESSION: UNDEFINED
STANDARD_VERSION: 1996 12
METADATA_DATE: 2000 11 30
DATA_FILE_SIZE: 41908536
BYTE_COUNT: 5454
