FILENAME: O4810732.SWS.1160085.tif
QUADRANGLE_NAME: JONES COULEE
QUADRANT: SW
WEST_LONGITUDE: -107 7 30.00000
EAST_LONGITUDE: -107 3 45.00000
NORTH_LATITUDE: 48 33 45.00000
SOUTH_LATITUDE: 48 30 0.00000
PRODUCTION_DATE: 2001 8 23
RASTER_ORDER: LEFT_RIGHT/TOP_BOTTOM
BAND_ORGANIZATION: SINGLE FILE
BAND_CONTENT: BLACK&WHITE
BAND_CONTENT: UNDEFINED
BAND_CONTENT: UNDEFINED
BITS_PER_PIXEL: 8
SAMPLES_AND_LINES: 5461 7687
HORIZONTAL_DATUM: NAD83
HORIZONTAL_COORDINATE_SYSTEM: UTM
COORDINATE_ZONE: 13
HORIZONTAL_UNITS: meters
HORIZONTAL_RESOLUTION: 1.00000
SECONDARY_HORIZONTAL_DATUM: NAD27
XY_ORIGIN: 342675.00000 5381311.00000
SECONDARY_XY_ORIGIN: 342716.04900 5381089.76100
NATION: US
STATE: MT
NW_QUAD_CORNER_XY: 343219.80800 5381002.88600
NE_QUAD_CORNER_XY: 347830.74100 5380876.51100
SE_QUAD_CORNERY_XY: 347643.28300 5373929.80000
SW_QUAD_CORNER_XY: 343026.66500 5374056.20800
SECONDARY_NW_QUAD_XY: 343214.81700 5380783.97500
SECONDARY_NE_QUAD_XY: 347825.89700 5380657.59600
SECONDARY_SE_QUAD_XY: 347638.43900 5373710.89300
SECONDARY_SW_QUAD_XY: 343021.67400 5373837.30500
RMSE_XY: 3.27000
IMAGE_SOURCE: BLACK AND WHITE FILM
SOURCE_IMAGE_ID: NAPP 9101-159
SOURCE_IMAGE_DATE: 1996 7 15
SOURCE_DEM_DATE: 1994 0 0
AGENCY: WESTERN MAPPING CENTER (WMC)
PRODUCER: WOOLPERT LLP
PRODUCTION_SYSTEM: INTERGRAPH ISPM, ISIR
COMPRESSION: UNDEFINED
STANDARD_VERSION: 1996 12
METADATA_DATE: 2001 8 23
DATA_FILE_SIZE: 41984168
BYTE_COUNT: 5461
