FILENAME: O4810733.SES.1112664.tif
QUADRANGLE_NAME: MALTA NW
QUADRANT: SE
WEST_LONGITUDE: -107 56 15.00000
EAST_LONGITUDE: -107 52 30.00000
NORTH_LATITUDE: 48 26 15.00000
SOUTH_LATITUDE: 48 22 30.00000
PRODUCTION_DATE: 2000 11 7
RASTER_ORDER: LEFT_RIGHT/TOP_BOTTOM
BAND_ORGANIZATION: SINGLE FILE
BAND_CONTENT: BLACK&WHITE
BAND_CONTENT: UNDEFINED
BAND_CONTENT: UNDEFINED
BITS_PER_PIXEL: 8
SAMPLES_AND_LINES: 5542 7726
HORIZONTAL_DATUM: NAD83
HORIZONTAL_COORDINATE_SYSTEM: UTM
COORDINATE_ZONE: 13
HORIZONTAL_UNITS: METERS
HORIZONTAL_RESOLUTION: 1.00000
SECONDARY_HORIZONTAL_DATUM: NAD27
XY_ORIGIN: 282128.00000 5369399.00000
SECONDARY_XY_ORIGIN: 282170.89400 5369178.45900
NATION: US
NATION: "SCIENCE
STATE: MT
NW_QUAD_CORNER_XY: 282746.11800 5369097.17300
NE_QUAD_CORNER_XY: 287368.07400 5368921.60500
SE_QUAD_CORNERY_XY: 287107.19000 5361975.52800
SW_QUAD_CORNER_XY: 282479.55500 5362151.14200
SECONDARY_NW_QUAD_XY: 282739.21800 5368878.34200
SECONDARY_NE_QUAD_XY: 287361.32100 5368702.76800
SECONDARY_SE_QUAD_XY: 287100.43700 5361756.70000
SECONDARY_SW_QUAD_XY: 282472.65500 5361932.32000
RMSE_XY: 3.10000
IMAGE_SOURCE: BLACK AND WHITE FILM
SOURCE_IMAGE_ID: NAPP 9157 200
SOURCE_IMAGE_DATE: 1997 09 05
SOURCE_DEM_DATE: 1967 00 00
AGENCY: WESTERN MAPPING CENTER (WMC)
PRODUCER: UNDEFINED
PRODUCTION_SYSTEM: GIS/MAGIC
COMPRESSION: UNDEFINED
STANDARD_VERSION: 1996 12
METADATA_DATE: 2000 11 15
DATA_FILE_SIZE: 42823034
BYTE_COUNT: 5542
