FILENAME: O4810733.NWS.1112663.tif
QUADRANGLE_NAME: MALTA NW
QUADRANT: NW
WEST_LONGITUDE: -108 0 0.00000
EAST_LONGITUDE: -107 56 15.00000
NORTH_LATITUDE: 48 30 0.00000
SOUTH_LATITUDE: 48 26 15.00000
PRODUCTION_DATE: 2000 11 7
RASTER_ORDER: LEFT_RIGHT/TOP_BOTTOM
BAND_ORGANIZATION: SINGLE FILE
BAND_CONTENT: BLACK&WHITE
BAND_CONTENT: UNDEFINED
BAND_CONTENT: UNDEFINED
BITS_PER_PIXEL: 8
SAMPLES_AND_LINES: 5541 7730
HORIZONTAL_DATUM: NAD83
HORIZONTAL_COORDINATE_SYSTEM: UTM
COORDINATE_ZONE: 13
HORIZONTAL_UNITS: METERS
HORIZONTAL_RESOLUTION: 1.00000
SECONDARY_HORIZONTAL_DATUM: NAD27
XY_ORIGIN: 277773.00000 5376525.00000
SECONDARY_XY_ORIGIN: 277815.83100 5376304.34500
NATION: US
NATION: "SCIENCE
STATE: MT
NW_QUAD_CORNER_XY: 278396.70300 5376222.56300
NE_QUAD_CORNER_XY: 283012.94200 5376043.26100
SE_QUAD_CORNERY_XY: 282746.11800 5369097.17300
SW_QUAD_CORNER_XY: 278124.19400 5369276.52300
SECONDARY_NW_QUAD_XY: 278389.65600 5376003.72900
SECONDARY_NE_QUAD_XY: 283006.04200 5375824.42100
SECONDARY_SE_QUAD_XY: 282739.21800 5368878.34200
SECONDARY_SW_QUAD_XY: 278117.14700 5369057.69700
RMSE_XY: 2.40000
IMAGE_SOURCE: BLACK AND WHITE FILM
SOURCE_IMAGE_ID: NAPP 9157 239
SOURCE_IMAGE_DATE: 1997 09 05
SOURCE_DEM_DATE: 1967 00 00
AGENCY: WESTERN MAPPING CENTER (WMC)
PRODUCER: UNDEFINED
PRODUCTION_SYSTEM: GIS/MAGIC
COMPRESSION: UNDEFINED
STANDARD_VERSION: 1996 12
METADATA_DATE: 2000 11 15
DATA_FILE_SIZE: 42837471
BYTE_COUNT: 5541
