FILENAME: O4810736.SWS.1116709.tif
QUADRANGLE_NAME: BOWDOIN
QUADRANT: SW
WEST_LONGITUDE: -107 37 30.00000
EAST_LONGITUDE: -107 33 45.00000
NORTH_LATITUDE: 48 26 15.00000
SOUTH_LATITUDE: 48 22 30.00000
PRODUCTION_DATE: 2000 11 9
RASTER_ORDER: LEFT_RIGHT/TOP_BOTTOM
BAND_ORGANIZATION: SINGLE FILE
BAND_CONTENT: BLACK&WHITE
BAND_CONTENT: UNDEFINED
BAND_CONTENT: UNDEFINED
BITS_PER_PIXEL: 8
SAMPLES_AND_LINES: 5512 7707
HORIZONTAL_DATUM: NAD83
HORIZONTAL_COORDINATE_SYSTEM: UTM
COORDINATE_ZONE: 13
HORIZONTAL_UNITS: METERS
HORIZONTAL_RESOLUTION: 1.00000
SECONDARY_HORIZONTAL_DATUM: NAD27
XY_ORIGIN: 305268.00000 5368559.00000
SECONDARY_XY_ORIGIN: 305310.53100 5368338.81600
NATION: US
NATION: "SCIENCE
STATE: MT
NW_QUAD_CORNER_XY: 305856.19200 5368257.13500
NE_QUAD_CORNER_XY: 310478.29200 5368100.46800
SE_QUAD_CORNERY_XY: 310245.79800 5361154.17800
SW_QUAD_CORNER_XY: 305618.02100 5361310.88600
SECONDARY_NW_QUAD_XY: 305850.02600 5368038.27700
SECONDARY_NE_QUAD_XY: 310472.27300 5367881.60400
SECONDARY_SE_QUAD_XY: 310239.78000 5360935.32400
SECONDARY_SW_QUAD_XY: 305611.85600 5361092.03700
RMSE_XY: 0.90000
IMAGE_SOURCE: BLACK AND WHITE FILM
SOURCE_IMAGE_ID: NAPP 9125 023
SOURCE_IMAGE_DATE: 1996 06 20
SOURCE_DEM_DATE: 1984 00 00
AGENCY: WESTERN MAPPING CENTER (WMC)
PRODUCER: UNDEFINED
PRODUCTION_SYSTEM: GIS/MAGIC
COMPRESSION: UNDEFINED
STANDARD_VERSION: 1996 12
METADATA_DATE: 2000 11 15
DATA_FILE_SIZE: 42486496
BYTE_COUNT: 5512
