FILENAME: O4810737.SWS.1116577.tif
QUADRANGLE_NAME: ROBINSON RANCH
QUADRANT: SW
WEST_LONGITUDE: -107 30 0.00000
EAST_LONGITUDE: -107 26 15.00000
NORTH_LATITUDE: 48 26 15.00000
SOUTH_LATITUDE: 48 22 30.00000
PRODUCTION_DATE: 2000 11 9
RASTER_ORDER: LEFT_RIGHT/TOP_BOTTOM
BAND_ORGANIZATION: SINGLE FILE
BAND_CONTENT: BLACK&WHITE
BAND_CONTENT: UNDEFINED
BAND_CONTENT: UNDEFINED
BITS_PER_PIXEL: 8
SAMPLES_AND_LINES: 5500 7699
HORIZONTAL_DATUM: NAD83
HORIZONTAL_COORDINATE_SYSTEM: UTM
COORDINATE_ZONE: 13
HORIZONTAL_UNITS: METERS
HORIZONTAL_RESOLUTION: 1.00000
SECONDARY_HORIZONTAL_DATUM: NAD27
XY_ORIGIN: 314524.00000 5368249.00000
SECONDARY_XY_ORIGIN: 314566.39300 5368029.03000
NATION: US
NATION: "SCIENCE
STATE: MT
NW_QUAD_CORNER_XY: 315100.41900 5367947.57900
NE_QUAD_CORNER_XY: 319722.57200 5367798.47000
SE_QUAD_CORNERY_XY: 319501.43100 5360852.10100
SW_QUAD_CORNER_XY: 314873.60200 5361001.25000
SECONDARY_NW_QUAD_XY: 315094.54700 5367728.71100
SECONDARY_NE_QUAD_XY: 319716.84700 5367579.59700
SECONDARY_SE_QUAD_XY: 319495.70700 5360633.23800
SECONDARY_SW_QUAD_XY: 314867.73000 5360782.39100
RMSE_XY: 1.70000
IMAGE_SOURCE: BLACK AND WHITE FILM
SOURCE_IMAGE_ID: NAPP 9127 201
SOURCE_IMAGE_DATE: 1996 07 15
SOURCE_DEM_DATE: 1984 00 00
AGENCY: WESTERN MAPPING CENTER (WMC)
PRODUCER: UNDEFINED
PRODUCTION_SYSTEM: GIS/MAGIC
COMPRESSION: UNDEFINED
STANDARD_VERSION: 1996 12
METADATA_DATE: 2000 11 15
DATA_FILE_SIZE: 42350000
BYTE_COUNT: 5500
