FILENAME: O4810738.SWS.1116617.tif
QUADRANGLE_NAME: SACO
QUADRANT: SW
WEST_LONGITUDE: -107 22 30.00000
EAST_LONGITUDE: -107 18 45.00000
NORTH_LATITUDE: 48 26 15.00000
SOUTH_LATITUDE: 48 22 30.00000
PRODUCTION_DATE: 2000 11 9
RASTER_ORDER: LEFT_RIGHT/TOP_BOTTOM
BAND_ORGANIZATION: SINGLE FILE
BAND_CONTENT: BLACK&WHITE
BAND_CONTENT: UNDEFINED
BAND_CONTENT: UNDEFINED
BITS_PER_PIXEL: 8
SAMPLES_AND_LINES: 5488 7692
HORIZONTAL_DATUM: NAD83
HORIZONTAL_COORDINATE_SYSTEM: UTM
COORDINATE_ZONE: 13
HORIZONTAL_UNITS: METERS
HORIZONTAL_RESOLUTION: 1.00000
SECONDARY_HORIZONTAL_DATUM: NAD27
XY_ORIGIN: 323780.00000 5367955.00000
SECONDARY_XY_ORIGIN: 323822.07300 5367734.70700
NATION: US
NATION: "SCIENCE
STATE: MT
NW_QUAD_CORNER_XY: 324344.75100 5367653.13900
NE_QUAD_CORNER_XY: 328966.95500 5367511.58600
SE_QUAD_CORNERY_XY: 328757.16500 5360565.14400
SW_QUAD_CORNER_XY: 324129.28600 5360706.73300
SECONDARY_NW_QUAD_XY: 324339.17300 5367434.26100
SECONDARY_NE_QUAD_XY: 328961.52400 5367292.70400
SECONDARY_SE_QUAD_XY: 328751.73400 5360346.27100
SECONDARY_SW_QUAD_XY: 324123.70800 5360487.86500
RMSE_XY: 1.30000
IMAGE_SOURCE: BLACK AND WHITE FILM
SOURCE_IMAGE_ID: NAPP 9127 095
SOURCE_IMAGE_DATE: 1996 07 15
SOURCE_DEM_DATE: 1977 00 00
AGENCY: WESTERN MAPPING CENTER (WMC)
PRODUCER: UNDEFINED
PRODUCTION_SYSTEM: GIS/MAGIC
COMPRESSION: UNDEFINED
STANDARD_VERSION: 1996 12
METADATA_DATE: 2000 11 15
DATA_FILE_SIZE: 42219184
BYTE_COUNT: 5488
