FILENAME: O4810738.SES.1116616.tif
QUADRANGLE_NAME: SACO
QUADRANT: SE
WEST_LONGITUDE: -107 18 45.00000
EAST_LONGITUDE: -107 15 0.00000
NORTH_LATITUDE: 48 26 15.00000
SOUTH_LATITUDE: 48 22 30.00000
PRODUCTION_DATE: 2000 11 10
RASTER_ORDER: LEFT_RIGHT/TOP_BOTTOM
BAND_ORGANIZATION: SINGLE FILE
BAND_CONTENT: BLACK&WHITE
BAND_CONTENT: UNDEFINED
BAND_CONTENT: UNDEFINED
BITS_PER_PIXEL: 8
SAMPLES_AND_LINES: 5483 7689
HORIZONTAL_DATUM: NAD83
HORIZONTAL_COORDINATE_SYSTEM: UTM
COORDINATE_ZONE: 13
HORIZONTAL_UNITS: METERS
HORIZONTAL_RESOLUTION: 1.00000
SECONDARY_HORIZONTAL_DATUM: NAD27
XY_ORIGIN: 328408.00000 5367814.00000
SECONDARY_XY_ORIGIN: 328449.91300 5367593.54400
NATION: US
NATION: "SCIENCE
STATE: MT
NW_QUAD_CORNER_XY: 328966.95500 5367511.58600
NE_QUAD_CORNER_XY: 333589.18400 5367373.81200
SE_QUAD_CORNERY_XY: 333385.06900 5360427.33400
SW_QUAD_CORNER_XY: 328757.16500 5360565.14400
SECONDARY_NW_QUAD_XY: 328961.52400 5367292.70400
SECONDARY_NE_QUAD_XY: 333583.89900 5367154.92500
SECONDARY_SE_QUAD_XY: 333379.78400 5360208.45700
SECONDARY_SW_QUAD_XY: 328751.73400 5360346.27100
RMSE_XY: 1.20000
IMAGE_SOURCE: BLACK AND WHITE FILM
SOURCE_IMAGE_ID: NAPP 9127 020
SOURCE_IMAGE_DATE: 1996 07 15
SOURCE_DEM_DATE: 1977 00 00
AGENCY: WESTERN MAPPING CENTER (WMC)
PRODUCER: UNDEFINED
PRODUCTION_SYSTEM: GIS/MAGIC
COMPRESSION: UNDEFINED
STANDARD_VERSION: 1996 12
METADATA_DATE: 2000 11 15
DATA_FILE_SIZE: 42164270
BYTE_COUNT: 5483
