FILENAME: O4810739.NWS.1137084.tif
QUADRANGLE_NAME: HINSDALE NW
QUADRANT: NW
WEST_LONGITUDE: -107 15 0.00000
EAST_LONGITUDE: -107 11 15.00000
NORTH_LATITUDE: 48 30 0.00000
SOUTH_LATITUDE: 48 26 15.00000
PRODUCTION_DATE: 2001 3 21
RASTER_ORDER: LEFT_RIGHT/TOP_BOTTOM
BAND_ORGANIZATION: SINGLE FILE
BAND_CONTENT: BLACK&WHITE
BAND_CONTENT: UNDEFINED
BAND_CONTENT: UNDEFINED
BITS_PER_PIXEL: 8
SAMPLES_AND_LINES: 5479 7694
HORIZONTAL_DATUM: NAD83
HORIZONTAL_COORDINATE_SYSTEM: UTM
COORDINATE_ZONE: 13
HORIZONTAL_UNITS: meters
HORIZONTAL_RESOLUTION: 1.00000
SECONDARY_HORIZONTAL_DATUM: NAD27
XY_ORIGIN: 333237.00000 5374628.00000
SECONDARY_XY_ORIGIN: 333278.53600 5374407.32000
NATION: US
STATE: MT
NW_QUAD_CORNER_XY: 333793.49800 5374320.35400
NE_QUAD_CORNER_XY: 338410.07000 5374186.39300
SE_QUAD_CORNERY_XY: 338211.43600 5367239.81500
SW_QUAD_CORNER_XY: 333589.18400 5367373.81200
SECONDARY_NW_QUAD_XY: 333788.21300 5374101.46000
SECONDARY_NE_QUAD_XY: 338404.93200 5373967.49400
SECONDARY_SE_QUAD_XY: 338206.29800 5367020.92500
SECONDARY_SW_QUAD_XY: 333583.89900 5367154.92600
RMSE_XY: 1.82000
IMAGE_SOURCE: BLACK AND WHITE FILM
SOURCE_IMAGE_ID: NAPP 9101-273
SOURCE_IMAGE_DATE: 1996 7 15
SOURCE_DEM_DATE: 1998 0 0
AGENCY: WESTERN MAPPING CENTER (WMC)
PRODUCER: WOOLPERT LLP
PRODUCTION_SYSTEM: INTERGRAPH ISPM, ISIR
COMPRESSION: UNDEFINED
STANDARD_VERSION: 1996 12
METADATA_DATE: 2001 3 21
DATA_FILE_SIZE: 42160905
BYTE_COUNT: 5479
