FILENAME: O4810739.NES.1137083.tif
QUADRANGLE_NAME: HINSDALE NW
QUADRANT: NE
WEST_LONGITUDE: -107 11 15.00000
EAST_LONGITUDE: -107 7 30.00000
NORTH_LATITUDE: 48 30 0.00000
SOUTH_LATITUDE: 48 26 15.00000
PRODUCTION_DATE: 2001 3 21
RASTER_ORDER: LEFT_RIGHT/TOP_BOTTOM
BAND_ORGANIZATION: SINGLE FILE
BAND_CONTENT: BLACK&WHITE
BAND_CONTENT: UNDEFINED
BAND_CONTENT: UNDEFINED
BITS_PER_PIXEL: 8
SAMPLES_AND_LINES: 5473 7690
HORIZONTAL_DATUM: NAD83
HORIZONTAL_COORDINATE_SYSTEM: UTM
COORDINATE_ZONE: 13
HORIZONTAL_UNITS: meters
HORIZONTAL_RESOLUTION: 1.00000
SECONDARY_HORIZONTAL_DATUM: NAD27
XY_ORIGIN: 337859.00000 5374494.00000
SECONDARY_XY_ORIGIN: 337900.38500 5374273.12400
NATION: US
STATE: MT
NW_QUAD_CORNER_XY: 338410.07000 5374186.39300
NE_QUAD_CORNER_XY: 343026.66500 5374056.20800
SE_QUAD_CORNERY_XY: 342833.71000 5367109.59600
SW_QUAD_CORNER_XY: 338211.43600 5367239.81500
SECONDARY_NW_QUAD_XY: 338404.93200 5373967.49400
SECONDARY_NE_QUAD_XY: 343021.67400 5373837.30500
SECONDARY_SE_QUAD_XY: 342828.71900 5366890.70200
SECONDARY_SW_QUAD_XY: 338206.29800 5367020.92500
RMSE_XY: 1.92000
IMAGE_SOURCE: BLACK AND WHITE FILM
SOURCE_IMAGE_ID: NAPP 9101-194
SOURCE_IMAGE_DATE: 1996 7 15
SOURCE_DEM_DATE: 1998 0 0
AGENCY: WESTERN MAPPING CENTER (WMC)
PRODUCER: WOOLPERT LLP
PRODUCTION_SYSTEM: INTERGRAPH ISPM, ISIR
COMPRESSION: UNDEFINED
STANDARD_VERSION: 1996 12
METADATA_DATE: 2001 3 21
DATA_FILE_SIZE: 42092843
BYTE_COUNT: 5473
