FILENAME: O4810740.SWS.1137090.tif
QUADRANGLE_NAME: HINSDALE
QUADRANT: SW
WEST_LONGITUDE: -107 7 30.00000
EAST_LONGITUDE: -107 3 45.00000
NORTH_LATITUDE: 48 26 15.00000
SOUTH_LATITUDE: 48 22 30.00000
PRODUCTION_DATE: 2001 3 21
RASTER_ORDER: LEFT_RIGHT/TOP_BOTTOM
BAND_ORGANIZATION: SINGLE FILE
BAND_CONTENT: BLACK&WHITE
BAND_CONTENT: UNDEFINED
BAND_CONTENT: UNDEFINED
BITS_PER_PIXEL: 8
SAMPLES_AND_LINES: 5473 7686
HORIZONTAL_DATUM: NAD83
HORIZONTAL_COORDINATE_SYSTEM: UTM
COORDINATE_ZONE: 13
HORIZONTAL_UNITS: meters
HORIZONTAL_RESOLUTION: 1.00000
SECONDARY_HORIZONTAL_DATUM: NAD27
XY_ORIGIN: 342289.00000 5367417.00000
SECONDARY_XY_ORIGIN: 342330.42000 5367195.98500
NATION: US
STATE: MT
NW_QUAD_CORNER_XY: 342833.71000 5367109.59600
NE_QUAD_CORNER_XY: 347456.00700 5366983.15400
SE_QUAD_CORNERY_XY: 347268.91500 5360036.57500
SW_QUAD_CORNER_XY: 342640.94400 5360163.05000
SECONDARY_NW_QUAD_XY: 342828.71900 5366890.70200
SECONDARY_NE_QUAD_XY: 347451.16300 5366764.25600
SECONDARY_SE_QUAD_XY: 347264.07100 5359817.68600
SECONDARY_SW_QUAD_XY: 342635.95300 5359944.16400
RMSE_XY: 2.18000
IMAGE_SOURCE: BLACK AND WHITE FILM
SOURCE_IMAGE_ID: NAPP 9101-155
SOURCE_IMAGE_DATE: 1996 7 15
SOURCE_IMAGE_ID: NAPP 9101-154
SOURCE_IMAGE_DATE: 1996 7 15
SOURCE_IMAGE_ID: NAPP 9101-197
SOURCE_IMAGE_DATE: 1996 7 15
SOURCE_DEM_DATE: 1996 0 0
AGENCY: WESTERN MAPPING CENTER (WMC)
PRODUCER: WOOLPERT LLP
PRODUCTION_SYSTEM: INTERGRAPH ISPM, ISIR
COMPRESSION: UNDEFINED
STANDARD_VERSION: 1996 12
METADATA_DATE: 2001 4 3
DATA_FILE_SIZE: 42070951
BYTE_COUNT: 5473
