FILENAME: O4810742.NES.1112714.tif
QUADRANGLE_NAME: MALTA EAST
QUADRANT: NE
WEST_LONGITUDE: -107 48 45.00000
EAST_LONGITUDE: -107 45 0.00000
NORTH_LATITUDE: 48 22 30.00000
SOUTH_LATITUDE: 48 18 45.00000
PRODUCTION_DATE: 2000 11 6
RASTER_ORDER: LEFT_RIGHT/TOP_BOTTOM
BAND_ORGANIZATION: SINGLE FILE
BAND_CONTENT: BLACK&WHITE
BAND_CONTENT: UNDEFINED
BAND_CONTENT: UNDEFINED
BITS_PER_PIXEL: 8
SAMPLES_AND_LINES: 5535 7719
HORIZONTAL_DATUM: NAD83
HORIZONTAL_COORDINATE_SYSTEM: UTM
COORDINATE_ZONE: 13
HORIZONTAL_UNITS: METERS
HORIZONTAL_RESOLUTION: 1.00000
SECONDARY_HORIZONTAL_DATUM: NAD27
XY_ORIGIN: 291129.00000 5362106.00000
SECONDARY_XY_ORIGIN: 291171.93700 5361885.62200
NATION: US
NATION: "SCIENCE
STATE: MT
NW_QUAD_CORNER_XY: 291734.85400 5361803.69500
NE_QUAD_CORNER_XY: 296362.54800 5361635.64400
SE_QUAD_CORNERY_XY: 296113.26600 5354689.53800
SW_QUAD_CORNER_XY: 291479.89900 5354857.63200
SECONDARY_NW_QUAD_XY: 291728.24900 5361584.86200
SECONDARY_NE_QUAD_XY: 296356.08900 5361416.80600
SECONDARY_SE_QUAD_XY: 296106.80700 5354470.70900
SECONDARY_SW_QUAD_XY: 291473.29300 5354638.80800
RMSE_XY: 1.00000
IMAGE_SOURCE: BLACK AND WHITE FILM
SOURCE_IMAGE_ID: NAPP 9148 102
SOURCE_IMAGE_DATE: 1996 08 27
SOURCE_DEM_DATE: 1967 00 00
AGENCY: WESTERN MAPPING CENTER (WMC)
PRODUCER: UNDEFINED
PRODUCTION_SYSTEM: GIS/MAGIC
COMPRESSION: UNDEFINED
STANDARD_VERSION: 1996 12
METADATA_DATE: 2000 11 15
DATA_FILE_SIZE: 42730200
BYTE_COUNT: 5535
