FILENAME: O4810744.SES.1116712.tif
QUADRANGLE_NAME: PINKS
QUADRANT: SE
WEST_LONGITUDE: -107 33 45.00000
EAST_LONGITUDE: -107 30 0.00000
NORTH_LATITUDE: 48 18 45.00000
SOUTH_LATITUDE: 48 15 0.00000
PRODUCTION_DATE: 2000 11 7
RASTER_ORDER: LEFT_RIGHT/TOP_BOTTOM
BAND_ORGANIZATION: SINGLE FILE
BAND_CONTENT: BLACK&WHITE
BAND_CONTENT: UNDEFINED
BAND_CONTENT: UNDEFINED
BITS_PER_PIXEL: 8
SAMPLES_AND_LINES: 5518 7704
HORIZONTAL_DATUM: NAD83
HORIZONTAL_COORDINATE_SYSTEM: UTM
COORDINATE_ZONE: 13
HORIZONTAL_UNITS: METERS
HORIZONTAL_RESOLUTION: 1.00000
SECONDARY_HORIZONTAL_DATUM: NAD27
XY_ORIGIN: 309431.00000 5354510.00000
SECONDARY_XY_ORIGIN: 309473.93800 5354290.01100
NATION: US
NATION: "SCIENCE
STATE: MT
NW_QUAD_CORNER_XY: 310013.53100 5354207.94800
NE_QUAD_CORNER_XY: 314647.00600 5354054.98100
SE_QUAD_CORNERY_XY: 314420.63300 5347108.77500
SW_QUAD_CORNER_XY: 309781.49300 5347261.78000
SECONDARY_NW_QUAD_XY: 310007.51300 5353989.10500
SECONDARY_NE_QUAD_XY: 314641.13500 5353836.13300
SECONDARY_SE_QUAD_XY: 314414.76200 5346889.93700
SECONDARY_SW_QUAD_XY: 309775.47500 5347042.94700
RMSE_XY: 1.20000
IMAGE_SOURCE: BLACK AND WHITE FILM
SOURCE_IMAGE_ID: NAPP 9127 220
SOURCE_IMAGE_DATE: 1996 07 15
SOURCE_DEM_DATE: 1977 00 00
AGENCY: WESTERN MAPPING CENTER (WMC)
PRODUCER: UNDEFINED
PRODUCTION_SYSTEM: GIS/MAGIC
COMPRESSION: UNDEFINED
STANDARD_VERSION: 1996 12
METADATA_DATE: 2000 11 15
DATA_FILE_SIZE: 42516190
BYTE_COUNT: 5518
