FILENAME: O4810744.NES.1116710.tif
QUADRANGLE_NAME: PINKS
QUADRANT: NE
WEST_LONGITUDE: -107 33 45.00000
EAST_LONGITUDE: -107 30 0.00000
NORTH_LATITUDE: 48 22 30.00000
SOUTH_LATITUDE: 48 18 45.00000
PRODUCTION_DATE: 2000 11 7
RASTER_ORDER: LEFT_RIGHT/TOP_BOTTOM
BAND_ORGANIZATION: SINGLE FILE
BAND_CONTENT: BLACK&WHITE
BAND_CONTENT: UNDEFINED
BAND_CONTENT: UNDEFINED
BITS_PER_PIXEL: 8
SAMPLES_AND_LINES: 5512 7704
HORIZONTAL_DATUM: NAD83
HORIZONTAL_COORDINATE_SYSTEM: UTM
COORDINATE_ZONE: 13
HORIZONTAL_UNITS: METERS
HORIZONTAL_RESOLUTION: 1.00000
SECONDARY_HORIZONTAL_DATUM: NAD27
XY_ORIGIN: 309663.00000 5361456.00000
SECONDARY_XY_ORIGIN: 309705.69500 5361235.95900
NATION: US
NATION: "SCIENCE
STATE: MT
NW_QUAD_CORNER_XY: 310245.79800 5361154.17800
NE_QUAD_CORNER_XY: 314873.60200 5361001.25000
SE_QUAD_CORNERY_XY: 314647.00600 5354054.98100
SW_QUAD_CORNER_XY: 310013.53100 5354207.94800
SECONDARY_NW_QUAD_XY: 310239.78000 5360935.32400
SECONDARY_NE_QUAD_XY: 314867.73000 5360782.39100
SECONDARY_SE_QUAD_XY: 314641.13500 5353836.13300
SECONDARY_SW_QUAD_XY: 310007.51300 5353989.10500
RMSE_XY: 1.00000
IMAGE_SOURCE: BLACK AND WHITE FILM
SOURCE_IMAGE_ID: NAPP 9127 218
SOURCE_IMAGE_DATE: 1996 07 15
SOURCE_DEM_DATE: 1977 00 00
AGENCY: WESTERN MAPPING CENTER (WMC)
PRODUCER: UNDEFINED
PRODUCTION_SYSTEM: GIS/MAGIC
COMPRESSION: UNDEFINED
STANDARD_VERSION: 1996 12
METADATA_DATE: 2000 11 15
DATA_FILE_SIZE: 42469960
BYTE_COUNT: 5512
