FILENAME: O4810745.SWS.1116557.tif
QUADRANGLE_NAME: REGAL COULEE
QUADRANT: SW
WEST_LONGITUDE: -107 30 0.00000
EAST_LONGITUDE: -107 26 15.00000
NORTH_LATITUDE: 48 18 45.00000
SOUTH_LATITUDE: 48 15 0.00000
PRODUCTION_DATE: 2000 11 9
RASTER_ORDER: LEFT_RIGHT/TOP_BOTTOM
BAND_ORGANIZATION: SINGLE FILE
BAND_CONTENT: BLACK&WHITE
BAND_CONTENT: UNDEFINED
BAND_CONTENT: UNDEFINED
BITS_PER_PIXEL: 8
SAMPLES_AND_LINES: 5512 7700
HORIZONTAL_DATUM: NAD83
HORIZONTAL_COORDINATE_SYSTEM: UTM
COORDINATE_ZONE: 13
HORIZONTAL_UNITS: METERS
HORIZONTAL_RESOLUTION: 1.00000
SECONDARY_HORIZONTAL_DATUM: NAD27
XY_ORIGIN: 314070.00000 5354357.00000
SECONDARY_XY_ORIGIN: 314112.91400 5354137.14200
NATION: US
NATION: "SCIENCE
STATE: MT
NW_QUAD_CORNER_XY: 314647.00600 5354054.98100
NE_QUAD_CORNER_XY: 319280.50700 5353905.79500
SE_QUAD_CORNERY_XY: 319059.79800 5346959.55200
SW_QUAD_CORNER_XY: 314420.63300 5347108.77500
SECONDARY_NW_QUAD_XY: 314641.13500 5353836.13300
SECONDARY_NE_QUAD_XY: 319274.78200 5353686.94200
SECONDARY_SE_QUAD_XY: 319054.07400 5346740.70900
SECONDARY_SW_QUAD_XY: 314414.76200 5346889.93700
RMSE_XY: 1.40000
IMAGE_SOURCE: BLACK AND WHITE FILM
SOURCE_IMAGE_ID: NAPP 9127 197
SOURCE_IMAGE_DATE: 1996 07 15
SOURCE_DEM_DATE: 1977 00 00
AGENCY: WESTERN MAPPING CENTER (WMC)
PRODUCER: UNDEFINED
PRODUCTION_SYSTEM: GIS/MAGIC
COMPRESSION: UNDEFINED
STANDARD_VERSION: 1996 12
METADATA_DATE: 2000 11 15
DATA_FILE_SIZE: 42447912
BYTE_COUNT: 5512
