FILENAME: O4810745.NWS.1116555.tif
QUADRANGLE_NAME: REGAL COULEE
QUADRANT: NW
WEST_LONGITUDE: -107 30 0.00000
EAST_LONGITUDE: -107 26 15.00000
NORTH_LATITUDE: 48 22 30.00000
SOUTH_LATITUDE: 48 18 45.00000
PRODUCTION_DATE: 2000 11 9
RASTER_ORDER: LEFT_RIGHT/TOP_BOTTOM
BAND_ORGANIZATION: SINGLE FILE
BAND_CONTENT: BLACK&WHITE
BAND_CONTENT: UNDEFINED
BAND_CONTENT: UNDEFINED
BITS_PER_PIXEL: 8
SAMPLES_AND_LINES: 5506 7700
HORIZONTAL_DATUM: NAD83
HORIZONTAL_COORDINATE_SYSTEM: UTM
COORDINATE_ZONE: 13
HORIZONTAL_UNITS: METERS
HORIZONTAL_RESOLUTION: 1.00000
SECONDARY_HORIZONTAL_DATUM: NAD27
XY_ORIGIN: 314297.00000 5361303.00000
SECONDARY_XY_ORIGIN: 314339.65300 5361083.08600
NATION: US
NATION: "SCIENCE
STATE: MT
NW_QUAD_CORNER_XY: 314873.60200 5361001.25000
NE_QUAD_CORNER_XY: 319501.43100 5360852.10100
SE_QUAD_CORNERY_XY: 319280.50700 5353905.79500
SW_QUAD_CORNER_XY: 314647.00600 5354054.98100
SECONDARY_NW_QUAD_XY: 314867.73000 5360782.39100
SECONDARY_NE_QUAD_XY: 319495.70700 5360633.23800
SECONDARY_SE_QUAD_XY: 319274.78200 5353686.94200
SECONDARY_SW_QUAD_XY: 314641.13500 5353836.13300
RMSE_XY: 1.50000
IMAGE_SOURCE: BLACK AND WHITE FILM
SOURCE_IMAGE_ID: NAPP 9127 199
SOURCE_IMAGE_DATE: 1996 07 15
SOURCE_DEM_DATE: 1977 00 00
AGENCY: WESTERN MAPPING CENTER (WMC)
PRODUCER: UNDEFINED
PRODUCTION_SYSTEM: GIS/MAGIC
COMPRESSION: UNDEFINED
STANDARD_VERSION: 1996 12
METADATA_DATE: 2000 11 15
DATA_FILE_SIZE: 42401706
BYTE_COUNT: 5506
