FILENAME: O4810745.NES.1116554.tif
QUADRANGLE_NAME: REGAL COULEE
QUADRANT: NE
WEST_LONGITUDE: -107 26 15.00000
EAST_LONGITUDE: -107 22 30.00000
NORTH_LATITUDE: 48 22 30.00000
SOUTH_LATITUDE: 48 18 45.00000
PRODUCTION_DATE: 2000 11 9
RASTER_ORDER: LEFT_RIGHT/TOP_BOTTOM
BAND_ORGANIZATION: SINGLE FILE
BAND_CONTENT: BLACK&WHITE
BAND_CONTENT: UNDEFINED
BAND_CONTENT: UNDEFINED
BITS_PER_PIXEL: 8
SAMPLES_AND_LINES: 5500 7696
HORIZONTAL_DATUM: NAD83
HORIZONTAL_COORDINATE_SYSTEM: UTM
COORDINATE_ZONE: 13
HORIZONTAL_UNITS: METERS
HORIZONTAL_RESOLUTION: 1.00000
SECONDARY_HORIZONTAL_DATUM: NAD27
XY_ORIGIN: 318931.00000 5361154.00000
SECONDARY_XY_ORIGIN: 318973.48100 5360933.92400
NATION: US
NATION: "SCIENCE
STATE: MT
NW_QUAD_CORNER_XY: 319501.43100 5360852.10100
NE_QUAD_CORNER_XY: 324129.28600 5360706.73300
SE_QUAD_CORNERY_XY: 323914.03200 5353760.39000
SW_QUAD_CORNER_XY: 319280.50700 5353905.79500
SECONDARY_NW_QUAD_XY: 319495.70700 5360633.23800
SECONDARY_NE_QUAD_XY: 324123.70800 5360487.86500
SECONDARY_SE_QUAD_XY: 323908.45400 5353541.53200
SECONDARY_SW_QUAD_XY: 319274.78200 5353686.94200
RMSE_XY: 1.70000
IMAGE_SOURCE: BLACK AND WHITE FILM
SOURCE_IMAGE_ID: NAPP 9127 128
SOURCE_IMAGE_DATE: 1996 07 15
SOURCE_DEM_DATE: 1977 00 00
AGENCY: WESTERN MAPPING CENTER (WMC)
PRODUCER: UNDEFINED
PRODUCTION_SYSTEM: GIS/MAGIC
COMPRESSION: UNDEFINED
STANDARD_VERSION: 1996 12
METADATA_DATE: 2000 11 15
DATA_FILE_SIZE: 42333500
BYTE_COUNT: 5500
