FILENAME: O4810746.SWS.1116597.tif
QUADRANGLE_NAME: SPENCER POINT
QUADRANT: SW
WEST_LONGITUDE: -107 22 30.00000
EAST_LONGITUDE: -107 18 45.00000
NORTH_LATITUDE: 48 18 45.00000
SOUTH_LATITUDE: 48 15 0.00000
PRODUCTION_DATE: 2000 11 9
RASTER_ORDER: LEFT_RIGHT/TOP_BOTTOM
BAND_ORGANIZATION: SINGLE FILE
BAND_CONTENT: BLACK&WHITE
BAND_CONTENT: UNDEFINED
BAND_CONTENT: UNDEFINED
BITS_PER_PIXEL: 8
SAMPLES_AND_LINES: 5500 7692
HORIZONTAL_DATUM: NAD83
HORIZONTAL_COORDINATE_SYSTEM: UTM
COORDINATE_ZONE: 13
HORIZONTAL_UNITS: METERS
HORIZONTAL_RESOLUTION: 1.00000
SECONDARY_HORIZONTAL_DATUM: NAD27
XY_ORIGIN: 323349.00000 5354062.00000
SECONDARY_XY_ORIGIN: 323391.54700 5353841.81900
NATION: US
NATION: "SCIENCE
STATE: MT
NW_QUAD_CORNER_XY: 323914.03200 5353760.39000
NE_QUAD_CORNER_XY: 328547.58100 5353618.76500
SE_QUAD_CORNERY_XY: 328338.20100 5346672.44900
SW_QUAD_CORNER_XY: 323698.98800 5346814.11000
SECONDARY_NW_QUAD_XY: 323908.45400 5353541.53200
SECONDARY_NE_QUAD_XY: 328542.15000 5353399.90200
SECONDARY_SE_QUAD_XY: 328332.77100 5346453.59800
SECONDARY_SW_QUAD_XY: 323693.41100 5346595.26300
RMSE_XY: 1.40000
IMAGE_SOURCE: BLACK AND WHITE FILM
SOURCE_IMAGE_ID: NAPP 9127 091
SOURCE_IMAGE_DATE: 1996 07 15
SOURCE_DEM_DATE: 1977 00 00
AGENCY: WESTERN MAPPING CENTER (WMC)
PRODUCER: UNDEFINED
PRODUCTION_SYSTEM: GIS/MAGIC
COMPRESSION: UNDEFINED
STANDARD_VERSION: 1996 12
METADATA_DATE: 2000 11 15
DATA_FILE_SIZE: 42311500
BYTE_COUNT: 5500
