FILENAME: O4810749.SES.1112652.tif
QUADRANGLE_NAME: BENNETT LAKE NW
QUADRANT: SE
WEST_LONGITUDE: -107 56 15.00000
EAST_LONGITUDE: -107 52 30.00000
NORTH_LATITUDE: 48 11 15.00000
SOUTH_LATITUDE: 48 7 30.00000
PRODUCTION_DATE: 2000 11 6
RASTER_ORDER: LEFT_RIGHT/TOP_BOTTOM
BAND_ORGANIZATION: SINGLE FILE
BAND_CONTENT: BLACK&WHITE
BAND_CONTENT: UNDEFINED
BAND_CONTENT: UNDEFINED
BITS_PER_PIXEL: 8
SAMPLES_AND_LINES: 5564 7726
HORIZONTAL_DATUM: NAD83
HORIZONTAL_COORDINATE_SYSTEM: UTM
COORDINATE_ZONE: 13
HORIZONTAL_UNITS: METERS
HORIZONTAL_RESOLUTION: 1.00000
SECONDARY_HORIZONTAL_DATUM: NAD27
XY_ORIGIN: 281064.00000 5341615.00000
SECONDARY_XY_ORIGIN: 281107.39900 5341394.63400
NATION: US
NATION: "SCIENCE
STATE: MT
NW_QUAD_CORNER_XY: 281681.42800 5341313.38400
NE_QUAD_CORNER_XY: 286326.06800 5341137.63800
SE_QUAD_CORNERY_XY: 286066.20600 5334191.78900
SW_QUAD_CORNER_XY: 281415.90800 5334367.57700
SECONDARY_NW_QUAD_XY: 281674.53000 5341094.59500
SECONDARY_NE_QUAD_XY: 286319.31700 5340918.84300
SECONDARY_SE_QUAD_XY: 286059.45500 5333973.00600
SECONDARY_SW_QUAD_XY: 281409.01000 5334148.80000
RMSE_XY: 0.70000
IMAGE_SOURCE: BLACK AND WHITE FILM
SOURCE_IMAGE_ID: NAPP 9148 122
SOURCE_IMAGE_DATE: 1996 08 27
SOURCE_DEM_DATE: 1984 00 00
AGENCY: WESTERN MAPPING CENTER (WMC)
PRODUCER: UNDEFINED
PRODUCTION_SYSTEM: GIS/MAGIC
COMPRESSION: UNDEFINED
STANDARD_VERSION: 1996 12
METADATA_DATE: 2000 11 15
DATA_FILE_SIZE: 42993028
BYTE_COUNT: 5564
