FILENAME: O4810753.SES.1116560.tif
QUADRANGLE_NAME: HARB
QUADRANT: SE
WEST_LONGITUDE: -107 26 15.00000
EAST_LONGITUDE: -107 22 30.00000
NORTH_LATITUDE: 48 11 15.00000
SOUTH_LATITUDE: 48 7 30.00000
PRODUCTION_DATE: 2000 11 7
RASTER_ORDER: LEFT_RIGHT/TOP_BOTTOM
BAND_ORGANIZATION: SINGLE FILE
BAND_CONTENT: BLACK&WHITE
BAND_CONTENT: UNDEFINED
BAND_CONTENT: UNDEFINED
BITS_PER_PIXEL: 8
SAMPLES_AND_LINES: 5517 7696
HORIZONTAL_DATUM: NAD83
HORIZONTAL_COORDINATE_SYSTEM: UTM
COORDINATE_ZONE: 13
HORIZONTAL_UNITS: METERS
HORIZONTAL_RESOLUTION: 1.00000
SECONDARY_HORIZONTAL_DATUM: NAD27
XY_ORIGIN: 318269.00000 5340315.00000
SECONDARY_XY_ORIGIN: 318312.08200 5340094.95500
NATION: US
NATION: "SCIENCE
STATE: MT
NW_QUAD_CORNER_XY: 318839.30700 5340013.37000
NE_QUAD_CORNER_XY: 323484.15500 5339867.89300
SE_QUAD_CORNERY_XY: 323269.53400 5332921.73800
SW_QUAD_CORNER_XY: 318619.03200 5333067.25000
SECONDARY_NW_QUAD_XY: 318833.58300 5339794.53900
SECONDARY_NE_QUAD_XY: 323478.57900 5339649.05700
SECONDARY_SE_QUAD_XY: 323263.95800 5332702.91600
SECONDARY_SW_QUAD_XY: 318613.30900 5332848.43200
RMSE_XY: 1.00000
IMAGE_SOURCE: BLACK AND WHITE FILM
SOURCE_IMAGE_ID: NAPP 9127 134
SOURCE_IMAGE_DATE: 1996 07 15
SOURCE_DEM_DATE: 1977 00 00
AGENCY: WESTERN MAPPING CENTER (WMC)
PRODUCER: UNDEFINED
PRODUCTION_SYSTEM: GIS/MAGIC
COMPRESSION: UNDEFINED
STANDARD_VERSION: 1996 12
METADATA_DATE: 2000 11 15
DATA_FILE_SIZE: 42464349
BYTE_COUNT: 5517
