FILENAME: O4810755.NWS.1137104.tif
QUADRANGLE_NAME: CHRISTMAS RESERVOIR
QUADRANT: NW
WEST_LONGITUDE: -107 15 0.00000
EAST_LONGITUDE: -107 11 15.00000
NORTH_LATITUDE: 48 15 0.00000
SOUTH_LATITUDE: 48 11 15.00000
PRODUCTION_DATE: 2001 3 1
RASTER_ORDER: LEFT_RIGHT/TOP_BOTTOM
BAND_ORGANIZATION: SINGLE FILE
BAND_CONTENT: BLACK&WHITE
BAND_CONTENT: UNDEFINED
BAND_CONTENT: UNDEFINED
BITS_PER_PIXEL: 8
SAMPLES_AND_LINES: 5501 7693
HORIZONTAL_DATUM: NAD83
HORIZONTAL_COORDINATE_SYSTEM: UTM
COORDINATE_ZONE: 13
HORIZONTAL_UNITS: meters
HORIZONTAL_RESOLUTION: 1.00000
SECONDARY_HORIZONTAL_DATUM: NAD27
XY_ORIGIN: 332421.00000 5346842.00000
SECONDARY_XY_ORIGIN: 332463.39200 5346621.55300
NATION: US
STATE: MT
NW_QUAD_CORNER_XY: 332977.43800 5346534.57000
NE_QUAD_CORNER_XY: 337616.69600 5346400.47100
SE_QUAD_CORNERY_XY: 337418.83900 5339454.15300
SW_QUAD_CORNER_XY: 332773.92200 5339588.28500
SECONDARY_NW_QUAD_XY: 332972.15400 5346315.71400
SECONDARY_NE_QUAD_XY: 337611.55900 5346181.61100
SECONDARY_SE_QUAD_XY: 337413.70200 5339235.30500
SECONDARY_SW_QUAD_XY: 332768.63900 5339369.44100
RMSE_XY: 2.31000
IMAGE_SOURCE: BLACK AND WHITE FILM
SOURCE_IMAGE_ID: NAPP 9101-265
SOURCE_IMAGE_DATE: 1996 7 15
SOURCE_DEM_DATE: 1998 0 0
AGENCY: WESTERN MAPPING CENTER (WMC)
PRODUCER: WOOLPERT LLP
PRODUCTION_SYSTEM: INTERGRAPH ISPM, ISIR
COMPRESSION: UNDEFINED
STANDARD_VERSION: 1996 12
METADATA_DATE: 2001 3 1
DATA_FILE_SIZE: 42324694
BYTE_COUNT: 5501
