FILENAME: O4810756.SES.1137117.tif
QUADRANGLE_NAME: HARDPAN COULEE
QUADRANT: SE
WEST_LONGITUDE: -107 3 45.00000
EAST_LONGITUDE: -107 0 0.00000
NORTH_LATITUDE: 48 11 15.00000
SOUTH_LATITUDE: 48 7 30.00000
PRODUCTION_DATE: 2001 3 21
RASTER_ORDER: LEFT_RIGHT/TOP_BOTTOM
BAND_ORGANIZATION: SINGLE FILE
BAND_CONTENT: BLACK&WHITE
BAND_CONTENT: UNDEFINED
BAND_CONTENT: UNDEFINED
BITS_PER_PIXEL: 8
SAMPLES_AND_LINES: 5489 7682
HORIZONTAL_DATUM: NAD83
HORIZONTAL_COORDINATE_SYSTEM: UTM
COORDINATE_ZONE: 13
HORIZONTAL_UNITS: meters
HORIZONTAL_RESOLUTION: 1.00000
SECONDARY_HORIZONTAL_DATUM: NAD27
XY_ORIGIN: 346170.00000 5339505.00000
SECONDARY_XY_ORIGIN: 346211.89800 5339283.96700
NATION: US
STATE: MT
NW_QUAD_CORNER_XY: 346708.73500 5339197.23400
NE_QUAD_CORNER_XY: 351353.71400 5339074.44600
SE_QUAD_CORNERY_XY: 351173.00600 5332128.10200
SW_QUAD_CORNER_XY: 346522.37600 5332250.91900
SECONDARY_NW_QUAD_XY: 346703.89200 5338978.37800
SECONDARY_NE_QUAD_XY: 351349.01800 5338855.58600
SECONDARY_SE_QUAD_XY: 351168.31000 5331909.25400
SECONDARY_SW_QUAD_XY: 346517.53300 5332032.07600
RMSE_XY: 2.14000
IMAGE_SOURCE: BLACK AND WHITE FILM
SOURCE_IMAGE_ID: NAPP 9101-092
SOURCE_IMAGE_DATE: 1996 7 15
SOURCE_DEM_DATE: 1999 0 0
AGENCY: WESTERN MAPPING CENTER (WMC)
PRODUCER: WOOLPERT LLP
PRODUCTION_SYSTEM: INTERGRAPH ISPM, ISIR
COMPRESSION: UNDEFINED
STANDARD_VERSION: 1996 12
METADATA_DATE: 2001 3 21
DATA_FILE_SIZE: 42171987
BYTE_COUNT: 5489
