FILENAME: O4810758.NES.1112702.tif
QUADRANGLE_NAME: MITCHELL CORNER
QUADRANT: NE
WEST_LONGITUDE: -107 48 45.00000
EAST_LONGITUDE: -107 45 0.00000
NORTH_LATITUDE: 48 7 30.00000
SOUTH_LATITUDE: 48 3 45.00000
PRODUCTION_DATE: 2000 11 6
RASTER_ORDER: LEFT_RIGHT/TOP_BOTTOM
BAND_ORGANIZATION: SINGLE FILE
BAND_CONTENT: BLACK&WHITE
BAND_CONTENT: UNDEFINED
BAND_CONTENT: UNDEFINED
BITS_PER_PIXEL: 8
SAMPLES_AND_LINES: 5557 7719
HORIZONTAL_DATUM: NAD83
HORIZONTAL_COORDINATE_SYSTEM: UTM
COORDINATE_ZONE: 13
HORIZONTAL_UNITS: METERS
HORIZONTAL_RESOLUTION: 1.00000
SECONDARY_HORIZONTAL_DATUM: NAD27
XY_ORIGIN: 290111.00000 5334322.00000
SECONDARY_XY_ORIGIN: 290154.42600 5334101.74200
NATION: US
NATION: "SCIENCE
STATE: MT
NW_QUAD_CORNER_XY: 290716.53100 5334019.78600
NE_QUAD_CORNER_XY: 295366.88400 5333851.56900
SE_QUAD_CORNERY_XY: 295118.58000 5326905.69600
SW_QUAD_CORNER_XY: 290462.57600 5327073.95300
SECONDARY_NW_QUAD_XY: 290709.92700 5333800.99800
SECONDARY_NE_QUAD_XY: 295360.42700 5333632.77500
SECONDARY_SE_QUAD_XY: 295112.12300 5326686.91600
SECONDARY_SW_QUAD_XY: 290455.97300 5326855.17800
RMSE_XY: 1.10000
IMAGE_SOURCE: BLACK AND WHITE FILM
SOURCE_IMAGE_ID: NAPP 9131 218
SOURCE_IMAGE_DATE: 1996 07 29
SOURCE_DEM_DATE: 1977 00 00
AGENCY: WESTERN MAPPING CENTER (WMC)
PRODUCER: UNDEFINED
PRODUCTION_SYSTEM: GIS/MAGIC
COMPRESSION: UNDEFINED
STANDARD_VERSION: 1996 12
METADATA_DATE: 2000 11 15
DATA_FILE_SIZE: 42900040
BYTE_COUNT: 5557
