FILENAME: O4810760.SES.1116704.tif
QUADRANGLE_NAME: CONTENT
QUADRANT: SE
WEST_LONGITUDE: -107 33 45.00000
EAST_LONGITUDE: -107 30 0.00000
NORTH_LATITUDE: 48 3 45.00000
SOUTH_LATITUDE: 48 0 0.00000
PRODUCTION_DATE: 2000 11 14
RASTER_ORDER: LEFT_RIGHT/TOP_BOTTOM
BAND_ORGANIZATION: SINGLE FILE
BAND_CONTENT: BLACK&WHITE
BAND_CONTENT: UNDEFINED
BAND_CONTENT: UNDEFINED
BITS_PER_PIXEL: 8
SAMPLES_AND_LINES: 5539 7703
HORIZONTAL_DATUM: NAD83
HORIZONTAL_COORDINATE_SYSTEM: UTM
COORDINATE_ZONE: 13
HORIZONTAL_UNITS: METERS
HORIZONTAL_RESOLUTION: 1.00000
SECONDARY_HORIZONTAL_DATUM: NAD27
XY_ORIGIN: 308505.00000 5326725.00000
SECONDARY_XY_ORIGIN: 308548.45200 5326504.88700
NATION: US
NATION: "SCIENCE
STATE: MT
NW_QUAD_CORNER_XY: 309086.74400 5326423.63900
NE_QUAD_CORNER_XY: 313742.84700 5326270.52400
SE_QUAD_CORNERY_XY: 313517.36500 5319324.56300
SW_QUAD_CORNER_XY: 308855.61800 5319477.71400
SECONDARY_NW_QUAD_XY: 309080.72700 5326204.84400
SECONDARY_NE_QUAD_XY: 313736.97800 5326051.72400
SECONDARY_SE_QUAD_XY: 313511.49600 5319105.77800
SECONDARY_SW_QUAD_XY: 308849.60200 5319258.93300
RMSE_XY: 1.10000
IMAGE_SOURCE: BLACK AND WHITE FILM
SOURCE_IMAGE_ID: NAPP 9127 228
SOURCE_IMAGE_DATE: 1996 07 15
SOURCE_DEM_DATE: 1977 00 00
AGENCY: WESTERN MAPPING CENTER (WMC)
PRODUCER: UNDEFINED
PRODUCTION_SYSTEM: GIS/MAGIC
COMPRESSION: UNDEFINED
STANDARD_VERSION: 1996 12
METADATA_DATE: 2000 12 13
DATA_FILE_SIZE: 42672456
BYTE_COUNT: 5539
