FILENAME: O4810763.SWS.1137110.tif
QUADRANGLE_NAME: BURNETT FLATS WEST
QUADRANT: SW
WEST_LONGITUDE: -107 15 0.00000
EAST_LONGITUDE: -107 11 15.00000
NORTH_LATITUDE: 48 3 45.00000
SOUTH_LATITUDE: 48 0 0.00000
PRODUCTION_DATE: 2001 3 1
RASTER_ORDER: LEFT_RIGHT/TOP_BOTTOM
BAND_ORGANIZATION: SINGLE FILE
BAND_CONTENT: BLACK&WHITE
BAND_CONTENT: UNDEFINED
BAND_CONTENT: UNDEFINED
BITS_PER_PIXEL: 8
SAMPLES_AND_LINES: 5518 7693
HORIZONTAL_DATUM: NAD83
HORIZONTAL_COORDINATE_SYSTEM: UTM
COORDINATE_ZONE: 13
HORIZONTAL_UNITS: meters
HORIZONTAL_RESOLUTION: 1.00000
SECONDARY_HORIZONTAL_DATUM: NAD27
XY_ORIGIN: 331811.00000 5326003.00000
SECONDARY_XY_ORIGIN: 331853.75500 5325782.38300
NATION: US
STATE: MT
NW_QUAD_CORNER_XY: 332367.49200 5325695.90600
NE_QUAD_CORNER_XY: 337023.70800 5325561.71100
SE_QUAD_CORNERY_XY: 336826.43600 5318615.58800
SW_QUAD_CORNER_XY: 332164.57900 5318749.81400
SECONDARY_NW_QUAD_XY: 332362.21000 5325477.08900
SECONDARY_NE_QUAD_XY: 337018.57200 5325342.88900
SECONDARY_SE_QUAD_XY: 336821.30000 5318396.78000
SECONDARY_SW_QUAD_XY: 332159.29700 5318531.01000
RMSE_XY: 1.65000
IMAGE_SOURCE: BLACK AND WHITE FILM
SOURCE_IMAGE_ID: NAPP 9101-259
SOURCE_IMAGE_DATE: 1996 7 15
SOURCE_DEM_DATE: 1995 0 0
AGENCY: WESTERN MAPPING CENTER (WMC)
PRODUCER: WOOLPERT LLP
PRODUCTION_SYSTEM: INTERGRAPH ISPM, ISIR
COMPRESSION: UNDEFINED
STANDARD_VERSION: 1996 12
METADATA_DATE: 2001 3 1
DATA_FILE_SIZE: 42455492
BYTE_COUNT: 5518
