FILENAME: O4810763.NWS.1137108.tif
QUADRANGLE_NAME: BURNETT FLATS WEST
QUADRANT: NW
WEST_LONGITUDE: -107 15 0.00000
EAST_LONGITUDE: -107 11 15.00000
NORTH_LATITUDE: 48 7 30.00000
SOUTH_LATITUDE: 48 3 45.00000
PRODUCTION_DATE: 2001 3 1
RASTER_ORDER: LEFT_RIGHT/TOP_BOTTOM
BAND_ORGANIZATION: SINGLE FILE
BAND_CONTENT: BLACK&WHITE
BAND_CONTENT: UNDEFINED
BAND_CONTENT: UNDEFINED
BITS_PER_PIXEL: 8
SAMPLES_AND_LINES: 5513 7693
HORIZONTAL_DATUM: NAD83
HORIZONTAL_COORDINATE_SYSTEM: UTM
COORDINATE_ZONE: 13
HORIZONTAL_UNITS: meters
HORIZONTAL_RESOLUTION: 1.00000
SECONDARY_HORIZONTAL_DATUM: NAD27
XY_ORIGIN: 332014.00000 5332949.00000
SECONDARY_XY_ORIGIN: 332056.63500 5332728.44000
NATION: US
STATE: MT
NW_QUAD_CORNER_XY: 332570.60700 5332642.06300
NE_QUAD_CORNER_XY: 337221.17600 5332507.90000
SE_QUAD_CORNERY_XY: 337023.70800 5325561.71100
SW_QUAD_CORNER_XY: 332367.49200 5325695.90600
SECONDARY_NW_QUAD_XY: 332565.32400 5332423.23200
SECONDARY_NE_QUAD_XY: 337216.04000 5332289.06400
SECONDARY_SE_QUAD_XY: 337018.57200 5325342.88900
SECONDARY_SW_QUAD_XY: 332362.21000 5325477.08900
RMSE_XY: 1.82000
IMAGE_SOURCE: BLACK AND WHITE FILM
SOURCE_IMAGE_ID: NAPP 9101-261
SOURCE_IMAGE_DATE: 1996 7 15
SOURCE_DEM_DATE: 1995 0 0
AGENCY: WESTERN MAPPING CENTER (WMC)
PRODUCER: WOOLPERT LLP
PRODUCTION_SYSTEM: INTERGRAPH ISPM, ISIR
COMPRESSION: UNDEFINED
STANDARD_VERSION: 1996 12
METADATA_DATE: 2001 3 1
DATA_FILE_SIZE: 42417022
BYTE_COUNT: 5513
