FILENAME: O4810601.SES.1160068.tif
QUADRANGLE_NAME: THOENY
QUADRANT: SE
WEST_LONGITUDE: -106 56 15.00000
EAST_LONGITUDE: -106 52 30.00000
NORTH_LATITUDE: 48 56 15.00000
SOUTH_LATITUDE: 48 52 30.00000
PRODUCTION_DATE: 2001 8 23
RASTER_ORDER: LEFT_RIGHT/TOP_BOTTOM
BAND_ORGANIZATION: SINGLE FILE
BAND_CONTENT: BLACK&WHITE
BAND_CONTENT: UNDEFINED
BAND_CONTENT: UNDEFINED
BITS_PER_PIXEL: 8
SAMPLES_AND_LINES: 5409 7676
HORIZONTAL_DATUM: NAD83
HORIZONTAL_COORDINATE_SYSTEM: UTM
COORDINATE_ZONE: 13
HORIZONTAL_UNITS: meters
HORIZONTAL_RESOLUTION: 1.00000
SECONDARY_HORIZONTAL_DATUM: NAD27
XY_ORIGIN: 357586.00000 5422626.00000
SECONDARY_XY_ORIGIN: 357626.07600 5422403.52300
NATION: US
STATE: MT
NW_QUAD_CORNER_XY: 358112.80400 5422317.15200
NE_QUAD_CORNER_XY: 362689.58400 5422202.29800
SE_QUAD_CORNERY_XY: 362518.18600 5415255.08500
SW_QUAD_CORNER_XY: 357935.68900 5415369.97300
SECONDARY_NW_QUAD_XY: 358108.25200 5422098.20200
SECONDARY_NE_QUAD_XY: 362685.17900 5421983.34400
SECONDARY_SE_QUAD_XY: 362513.78100 5415036.13400
SECONDARY_SW_QUAD_XY: 357931.13700 5415151.02500
RMSE_XY: 3.12000
IMAGE_SOURCE: BLACK AND WHITE FILM
SOURCE_IMAGE_ID: NAPP 9085-063
SOURCE_IMAGE_DATE: 1996 6 13
SOURCE_DEM_DATE: 1998 0 0
AGENCY: WESTERN MAPPING CENTER (WMC)
PRODUCER: WOOLPERT LLP
PRODUCTION_SYSTEM: INTERGRAPH ISPM, ISIR
COMPRESSION: UNDEFINED
STANDARD_VERSION: 1996 12
METADATA_DATE: 2001 8 23
DATA_FILE_SIZE: 41524893
BYTE_COUNT: 5409
