FILENAME: O4810604.NES.1160110.tif
QUADRANGLE_NAME: COAL MINE CREEK EAST
QUADRANT: NE
WEST_LONGITUDE: -106 33 45.00000
EAST_LONGITUDE: -106 30 0.00000
NORTH_LATITUDE: 49 0 0.00000
SOUTH_LATITUDE: 48 56 15.00000
PRODUCTION_DATE: 2001 8 23
RASTER_ORDER: LEFT_RIGHT/TOP_BOTTOM
BAND_ORGANIZATION: SINGLE FILE
BAND_CONTENT: BLACK&WHITE
BAND_CONTENT: UNDEFINED
BAND_CONTENT: UNDEFINED
BITS_PER_PIXEL: 8
SAMPLES_AND_LINES: 5368 7654
HORIZONTAL_DATUM: NAD83
HORIZONTAL_COORDINATE_SYSTEM: UTM
COORDINATE_ZONE: 13
HORIZONTAL_UNITS: METERS
HORIZONTAL_RESOLUTION: 1.00000
SECONDARY_HORIZONTAL_DATUM: NAD27
XY_ORIGIN: 385225.00000 5428941.00000
SECONDARY_XY_ORIGIN: 385264.76500 5428718.42600
NATION: US
NATION: CA
STATE: MT
NW_QUAD_CORNER_XY: 385716.76100 5428631.97800
NE_QUAD_CORNER_XY: 390287.94300 5428539.75600
SE_QUAD_CORNERY_XY: 390150.70700 5421592.29200
SW_QUAD_CORNER_XY: 385573.80400 5421684.54200
SECONDARY_NW_QUAD_XY: 385713.09000 5428413.00600
SECONDARY_NE_QUAD_XY: 390284.41900 5428320.78100
SECONDARY_SE_QUAD_XY: 390147.18300 5421373.31800
SECONDARY_SW_QUAD_XY: 385570.13400 5421465.57100
RMSE_XY: 3.61000
IMAGE_SOURCE: BLACK AND WHITE FILM
SOURCE_IMAGE_ID: NAPP 9110-137
SOURCE_IMAGE_DATE: 1996 8 11
SOURCE_DEM_DATE: 1998 0 0
AGENCY: WESTERN MAPPING CENTER (WMC)
PRODUCER: WOOLPERT LLP
PRODUCTION_SYSTEM: INTERGRAPH ISPM, ISIR
COMPRESSION: UNDEFINED
STANDARD_VERSION: 1996 12
METADATA_DATE: 2001 9 18
DATA_FILE_SIZE: 41092040
BYTE_COUNT: 5368
