FILENAME: O4810607.NWS.1164426.tif
QUADRANGLE_NAME: KAMINSKI HILL
QUADRANT: NW
WEST_LONGITUDE: -106 15 0.00000
EAST_LONGITUDE: -106 11 15.00000
NORTH_LATITUDE: 49 0 0.00000
SOUTH_LATITUDE: 48 56 15.00000
PRODUCTION_DATE: 2001 11 12
RASTER_ORDER: LEFT_RIGHT/TOP_BOTTOM
BAND_ORGANIZATION: SINGLE FILE
BAND_CONTENT: BLACK&WHITE
BAND_CONTENT: UNDEFINED
BAND_CONTENT: UNDEFINED
BITS_PER_PIXEL: 8
SAMPLES_AND_LINES: 5340 7635
HORIZONTAL_DATUM: NAD83
HORIZONTAL_COORDINATE_SYSTEM: UTM
COORDINATE_ZONE: 13
HORIZONTAL_UNITS: METERS
HORIZONTAL_RESOLUTION: 1.00000
SECONDARY_HORIZONTAL_DATUM: NAD27
XY_ORIGIN: 408110.00000 5428517.00000
SECONDARY_XY_ORIGIN: 408149.75200 5428294.58400
NATION: US
NATION: CA
STATE: MT
NW_QUAD_CORNER_XY: 408572.84500 5428208.52000
NE_QUAD_CORNER_XY: 413144.11000 5428135.12400
SE_QUAD_CORNERY_XY: 413035.47200 5421187.53800
SW_QUAD_CORNER_XY: 408458.48800 5421260.95600
SECONDARY_NW_QUAD_XY: 408569.90900 5427989.53400
SECONDARY_NE_QUAD_XY: 413141.32000 5427916.13600
SECONDARY_SE_QUAD_XY: 413032.68300 5420968.55100
SECONDARY_SW_QUAD_XY: 408455.55200 5421041.97200
RMSE_XY: 2.41000
IMAGE_SOURCE: BLACK AND WHITE FILM
SOURCE_IMAGE_ID: NAPP 9122-130
SOURCE_IMAGE_DATE: 1996 9 11
SOURCE_DEM_DATE: 1998 0 0
AGENCY: WESTERN MAPPING CENTER (WMC)
PRODUCER: WOOLPERT LLP
PRODUCTION_SYSTEM: INTERGRAPH ISPM, ISIR
COMPRESSION: UNDEFINED
STANDARD_VERSION: 1996 12
METADATA_DATE: 2001 11 12
DATA_FILE_SIZE: 40776240
BYTE_COUNT: 5340
