FILENAME: O4810608.NWS.1164438.tif
QUADRANGLE_NAME: BROCKWAY SPRING
QUADRANT: NW
WEST_LONGITUDE: -106 7 30.00000
EAST_LONGITUDE: -106 3 45.00000
NORTH_LATITUDE: 49 0 0.00000
SOUTH_LATITUDE: 48 56 15.00000
PRODUCTION_DATE: 2001 9 15
RASTER_ORDER: LEFT_RIGHT/TOP_BOTTOM
BAND_ORGANIZATION: SINGLE FILE
BAND_CONTENT: BLACK&WHITE
BAND_CONTENT: UNDEFINED
BAND_CONTENT: UNDEFINED
BITS_PER_PIXEL: 8
SAMPLES_AND_LINES: 5327 7628
HORIZONTAL_DATUM: NAD83
HORIZONTAL_COORDINATE_SYSTEM: UTM
COORDINATE_ZONE: 13
HORIZONTAL_UNITS: meters
HORIZONTAL_RESOLUTION: 1.00000
SECONDARY_HORIZONTAL_DATUM: NAD27
XY_ORIGIN: 417265.00000 5428374.00000
SECONDARY_XY_ORIGIN: 417304.71500 5428151.60400
NATION: US
NATION: CA
STATE: MT
NW_QUAD_CORNER_XY: 417715.38900 5428065.49300
NE_QUAD_CORNER_XY: 422286.68200 5427999.62600
SE_QUAD_CORNERY_XY: 422189.48200 5421051.99900
SW_QUAD_CORNER_XY: 417612.47000 5421117.88600
SECONDARY_NW_QUAD_XY: 417712.74700 5427846.50200
SECONDARY_NE_QUAD_XY: 422284.18600 5427780.63300
SECONDARY_SE_QUAD_XY: 422186.98600 5420833.00800
SECONDARY_SW_QUAD_XY: 417609.82800 5420898.89700
RMSE_XY: 4.12000
IMAGE_SOURCE: BLACK AND WHITE FILM
SOURCE_IMAGE_ID: NAPP 9095-155
SOURCE_IMAGE_DATE: 1996 7 9
SOURCE_DEM_DATE: 1998 0 0
AGENCY: WESTERN MAPPING CENTER (WMC)
PRODUCER: WOOLPERT LLP
PRODUCTION_SYSTEM: INTERGRAPH ISPM, ISIR
COMPRESSION: UNDEFINED
STANDARD_VERSION: 1996 12
METADATA_DATE: 2001 9 15
DATA_FILE_SIZE: 40639683
BYTE_COUNT: 5327
