FILENAME: O4810612.SWS.1160117.tif
QUADRANGLE_NAME: O'JUEL LAKE
QUADRANT: SW
WEST_LONGITUDE: -106 37 30.00000
EAST_LONGITUDE: -106 33 45.00000
NORTH_LATITUDE: 48 48 45.00000
SOUTH_LATITUDE: 48 45 0.00000
PRODUCTION_DATE: 2001 8 23
RASTER_ORDER: LEFT_RIGHT/TOP_BOTTOM
BAND_ORGANIZATION: SINGLE FILE
BAND_CONTENT: BLACK&WHITE
BAND_CONTENT: UNDEFINED
BAND_CONTENT: UNDEFINED
BITS_PER_PIXEL: 8
SAMPLES_AND_LINES: 5391 7658
HORIZONTAL_DATUM: NAD83
HORIZONTAL_COORDINATE_SYSTEM: UTM
COORDINATE_ZONE: 13
HORIZONTAL_UNITS: meters
HORIZONTAL_RESOLUTION: 1.00000
SECONDARY_HORIZONTAL_DATUM: NAD27
XY_ORIGIN: 380203.00000 5408195.00000
SECONDARY_XY_ORIGIN: 380242.83300 5407972.48100
NATION: US
STATE: MT
NW_QUAD_CORNER_XY: 380699.99400 5407885.95200
NE_QUAD_CORNER_XY: 385288.30300 5407789.87900
SE_QUAD_CORNERY_XY: 385145.75900 5400842.65300
SW_QUAD_CORNER_XY: 380551.74600 5400938.75400
SECONDARY_NW_QUAD_XY: 380696.17700 5407666.99100
SECONDARY_NE_QUAD_XY: 385284.63300 5407570.91400
SECONDARY_SE_QUAD_XY: 385142.08800 5400623.69200
SECONDARY_SW_QUAD_XY: 380547.92800 5400719.79600
RMSE_XY: 3.21000
IMAGE_SOURCE: BLACK AND WHITE FILM
SOURCE_IMAGE_ID: NAPP 9110-148
SOURCE_IMAGE_DATE: 1996 8 11
SOURCE_DEM_DATE: 1998 0 0
AGENCY: WESTERN MAPPING CENTER (WMC)
PRODUCER: WOOLPERT LLP
PRODUCTION_SYSTEM: INTERGRAPH ISPM, ISIR
COMPRESSION: UNDEFINED
STANDARD_VERSION: 1996 12
METADATA_DATE: 2001 8 23
DATA_FILE_SIZE: 41289669
BYTE_COUNT: 5391
