FILENAME: O4810612.NWS.1160115.tif
QUADRANGLE_NAME: O'JUEL LAKE
QUADRANT: NW
WEST_LONGITUDE: -106 37 30.00000
EAST_LONGITUDE: -106 33 45.00000
NORTH_LATITUDE: 48 52 30.00000
SOUTH_LATITUDE: 48 48 45.00000
PRODUCTION_DATE: 2001 8 23
RASTER_ORDER: LEFT_RIGHT/TOP_BOTTOM
BAND_ORGANIZATION: SINGLE FILE
BAND_CONTENT: BLACK&WHITE
BAND_CONTENT: UNDEFINED
BAND_CONTENT: UNDEFINED
BITS_PER_PIXEL: 8
SAMPLES_AND_LINES: 5385 7658
HORIZONTAL_DATUM: NAD83
HORIZONTAL_COORDINATE_SYSTEM: UTM
COORDINATE_ZONE: 13
HORIZONTAL_UNITS: meters
HORIZONTAL_RESOLUTION: 1.00000
SECONDARY_HORIZONTAL_DATUM: NAD27
XY_ORIGIN: 380351.00000 5415142.00000
SECONDARY_XY_ORIGIN: 380390.82000 5414919.45800
NATION: US
STATE: MT
NW_QUAD_CORNER_XY: 380848.38600 5414833.22100
NE_QUAD_CORNER_XY: 385430.98500 5414737.17500
SE_QUAD_CORNERY_XY: 385288.30300 5407789.87900
SW_QUAD_CORNER_XY: 380699.99400 5407885.95200
SECONDARY_NW_QUAD_XY: 380844.56800 5414614.25600
SECONDARY_NE_QUAD_XY: 385427.31400 5414518.20700
SECONDARY_SE_QUAD_XY: 385284.63300 5407570.91400
SECONDARY_SW_QUAD_XY: 380696.17700 5407666.99100
RMSE_XY: 2.63000
IMAGE_SOURCE: BLACK AND WHITE FILM
SOURCE_IMAGE_ID: NAPP 9110-146
SOURCE_IMAGE_DATE: 1996 8 11
SOURCE_DEM_DATE: 1998 0 0
AGENCY: WESTERN MAPPING CENTER (WMC)
PRODUCER: WOOLPERT LLP
PRODUCTION_SYSTEM: INTERGRAPH ISPM, ISIR
COMPRESSION: UNDEFINED
STANDARD_VERSION: 1996 12
METADATA_DATE: 2001 8 23
DATA_FILE_SIZE: 41243715
BYTE_COUNT: 5385
