FILENAME: O4810613.SES.1164371.tif
QUADRANGLE_NAME: OPHEIM
QUADRANT: SE
WEST_LONGITUDE: -106 26 15.00000
EAST_LONGITUDE: -106 22 30.00000
NORTH_LATITUDE: 48 48 45.00000
SOUTH_LATITUDE: 48 45 0.00000
PRODUCTION_DATE: 2001 9 15
RASTER_ORDER: LEFT_RIGHT/TOP_BOTTOM
BAND_ORGANIZATION: SINGLE FILE
BAND_CONTENT: BLACK&WHITE
BAND_CONTENT: UNDEFINED
BAND_CONTENT: UNDEFINED
BITS_PER_PIXEL: 8
SAMPLES_AND_LINES: 5374 7647
HORIZONTAL_DATUM: NAD83
HORIZONTAL_COORDINATE_SYSTEM: UTM
COORDINATE_ZONE: 13
HORIZONTAL_UNITS: meters
HORIZONTAL_RESOLUTION: 1.00000
SECONDARY_HORIZONTAL_DATUM: NAD27
XY_ORIGIN: 393985.00000 5407918.00000
SECONDARY_XY_ORIGIN: 394024.68500 5407695.41700
NATION: US
STATE: MT
NW_QUAD_CORNER_XY: 394464.97400 5407609.03900
NE_QUAD_CORNER_XY: 399053.33500 5407524.27200
SE_QUAD_CORNERY_XY: 398927.90200 5400576.97000
SW_QUAD_CORNER_XY: 394333.83800 5400661.76100
SECONDARY_NW_QUAD_XY: 394461.59800 5407390.06900
SECONDARY_NE_QUAD_XY: 399050.10500 5407305.29900
SECONDARY_SE_QUAD_XY: 398924.67200 5400358.00100
SECONDARY_SW_QUAD_XY: 394330.46100 5400442.79500
RMSE_XY: 2.74000
IMAGE_SOURCE: BLACK AND WHITE FILM
SOURCE_IMAGE_ID: NAPP 9109-209
SOURCE_IMAGE_DATE: 1996 8 11
SOURCE_DEM_DATE: 1998 0 0
AGENCY: WESTERN MAPPING CENTER (WMC)
PRODUCER: WOOLPERT LLP
PRODUCTION_SYSTEM: INTERGRAPH ISPM, ISIR
COMPRESSION: UNDEFINED
STANDARD_VERSION: 1996 12
METADATA_DATE: 2001 9 15
DATA_FILE_SIZE: 41100352
BYTE_COUNT: 5374
