FILENAME: O4810613.NES.1164369.tif
QUADRANGLE_NAME: OPHEIM
QUADRANT: NE
WEST_LONGITUDE: -106 26 15.00000
EAST_LONGITUDE: -106 22 30.00000
NORTH_LATITUDE: 48 52 30.00000
SOUTH_LATITUDE: 48 48 45.00000
PRODUCTION_DATE: 2001 9 15
RASTER_ORDER: LEFT_RIGHT/TOP_BOTTOM
BAND_ORGANIZATION: SINGLE FILE
BAND_CONTENT: BLACK&WHITE
BAND_CONTENT: UNDEFINED
BAND_CONTENT: UNDEFINED
BITS_PER_PIXEL: 8
SAMPLES_AND_LINES: 5368 7646
HORIZONTAL_DATUM: NAD83
HORIZONTAL_COORDINATE_SYSTEM: UTM
COORDINATE_ZONE: 13
HORIZONTAL_UNITS: METERS
HORIZONTAL_RESOLUTION: 1.00000
SECONDARY_HORIZONTAL_DATUM: NAD27
XY_ORIGIN: 394116.00000 5414865.00000
SECONDARY_XY_ORIGIN: 394155.70100 5414642.43500
NATION: US
STATE: MT
NW_QUAD_CORNER_XY: 394596.23800 5414556.38800
NE_QUAD_CORNER_XY: 399178.89000 5414471.64600
SE_QUAD_CORNERY_XY: 399053.33500 5407524.27200
SW_QUAD_CORNER_XY: 394464.97400 5407609.03900
SECONDARY_NW_QUAD_XY: 394592.86100 5414337.41400
SECONDARY_NE_QUAD_XY: 399175.66000 5414252.67000
SECONDARY_SE_QUAD_XY: 399050.10500 5407305.29900
SECONDARY_SW_QUAD_XY: 394461.59800 5407390.06900
RMSE_XY: 4.62000
IMAGE_SOURCE: BLACK AND WHITE FILM
SOURCE_IMAGE_ID: NAPP 9109-211
SOURCE_IMAGE_DATE: 1996 8 11
SOURCE_DEM_DATE: 1998 0 0
AGENCY: WESTERN MAPPING CENTER (WMC)
PRODUCER: WOOLPERT LLP
PRODUCTION_SYSTEM: INTERGRAPH ISPM, ISIR
COMPRESSION: UNDEFINED
STANDARD_VERSION: 1996 12
METADATA_DATE: 2001 9 18
DATA_FILE_SIZE: 41049096
BYTE_COUNT: 5368
