FILENAME: O4810614.SES.1164419.tif
QUADRANGLE_NAME: GLENTANA WEST
QUADRANT: SE
WEST_LONGITUDE: -106 18 45.00000
EAST_LONGITUDE: -106 15 0.00000
NORTH_LATITUDE: 48 48 45.00000
SOUTH_LATITUDE: 48 45 0.00000
PRODUCTION_DATE: 2001 9 15
RASTER_ORDER: LEFT_RIGHT/TOP_BOTTOM
BAND_ORGANIZATION: SINGLE FILE
BAND_CONTENT: BLACK&WHITE
BAND_CONTENT: UNDEFINED
BAND_CONTENT: UNDEFINED
BITS_PER_PIXEL: 8
SAMPLES_AND_LINES: 5362 7639
HORIZONTAL_DATUM: NAD83
HORIZONTAL_COORDINATE_SYSTEM: UTM
COORDINATE_ZONE: 13
HORIZONTAL_UNITS: meters
HORIZONTAL_RESOLUTION: 1.00000
SECONDARY_HORIZONTAL_DATUM: NAD27
XY_ORIGIN: 403174.00000 5407752.00000
SECONDARY_XY_ORIGIN: 403213.64200 5407529.45300
NATION: US
STATE: MT
NW_QUAD_CORNER_XY: 403641.71200 5407443.27400
NE_QUAD_CORNER_XY: 408230.10400 5407366.04500
SE_QUAD_CORNERY_XY: 408116.07600 5400418.69700
SW_QUAD_CORNER_XY: 403521.98200 5400495.94900
SECONDARY_NW_QUAD_XY: 403638.62900 5407224.29800
SECONDARY_NE_QUAD_XY: 408227.16700 5407147.06600
SECONDARY_SE_QUAD_XY: 408113.14000 5400199.72300
SECONDARY_SW_QUAD_XY: 403518.89900 5400276.97700
RMSE_XY: 4.56000
IMAGE_SOURCE: BLACK AND WHITE FILM
SOURCE_IMAGE_ID: NAPP 9122-079
SOURCE_IMAGE_DATE: 1996 9 11
SOURCE_DEM_DATE: 1998 0 0
AGENCY: WESTERN MAPPING CENTER (WMC)
PRODUCER: WOOLPERT LLP
PRODUCTION_SYSTEM: INTERGRAPH ISPM, ISIR
COMPRESSION: UNDEFINED
STANDARD_VERSION: 1996 12
METADATA_DATE: 2001 9 15
DATA_FILE_SIZE: 40965680
BYTE_COUNT: 5362
