FILENAME: O4810616.SES.1164443.tif
QUADRANGLE_NAME: RICHLAND
QUADRANT: SE
WEST_LONGITUDE: -106 3 45.00000
EAST_LONGITUDE: -106 0 0.00000
NORTH_LATITUDE: 48 48 45.00000
SOUTH_LATITUDE: 48 45 0.00000
PRODUCTION_DATE: 2001 9 15
RASTER_ORDER: LEFT_RIGHT/TOP_BOTTOM
BAND_ORGANIZATION: SINGLE FILE
BAND_CONTENT: BLACK&WHITE
BAND_CONTENT: UNDEFINED
BAND_CONTENT: UNDEFINED
BITS_PER_PIXEL: 8
SAMPLES_AND_LINES: 5338 7624
HORIZONTAL_DATUM: NAD83
HORIZONTAL_COORDINATE_SYSTEM: UTM
COORDINATE_ZONE: 13
HORIZONTAL_UNITS: meters
HORIZONTAL_RESOLUTION: 1.00000
SECONDARY_HORIZONTAL_DATUM: NAD27
XY_ORIGIN: 421551.00000 5407466.00000
SECONDARY_XY_ORIGIN: 421590.62100 5407243.53800
NATION: US
STATE: MT
NW_QUAD_CORNER_XY: 421995.36200 5407156.96400
NE_QUAD_CORNER_XY: 426583.80700 5407094.80700
SE_QUAD_CORNERY_XY: 426492.58900 5400147.38100
SW_QUAD_CORNER_XY: 421898.44200 5400209.55600
SECONDARY_NW_QUAD_XY: 421992.86600 5406937.97900
SECONDARY_NE_QUAD_XY: 426581.45800 5406875.81900
SECONDARY_SE_QUAD_XY: 426490.24000 5399928.39800
SECONDARY_SW_QUAD_XY: 421895.94700 5399990.57600
RMSE_XY: 4.09000
IMAGE_SOURCE: BLACK AND WHITE FILM
SOURCE_IMAGE_ID: NAPP 9095-144
SOURCE_IMAGE_DATE: 1996 7 9
SOURCE_DEM_DATE: 1998 0 0
AGENCY: WESTERN MAPPING CENTER (WMC)
PRODUCER: WOOLPERT LLP
PRODUCTION_SYSTEM: INTERGRAPH ISPM, ISIR
COMPRESSION: UNDEFINED
STANDARD_VERSION: 1996 12
METADATA_DATE: 2001 9 15
DATA_FILE_SIZE: 40702250
BYTE_COUNT: 5338
