FILENAME: O4810621.NES.1164373.tif
QUADRANGLE_NAME: BAYLOR
QUADRANT: NE
WEST_LONGITUDE: -106 26 15.00000
EAST_LONGITUDE: -106 22 30.00000
NORTH_LATITUDE: 48 45 0.00000
SOUTH_LATITUDE: 48 41 15.00000
PRODUCTION_DATE: 2001 9 15
RASTER_ORDER: LEFT_RIGHT/TOP_BOTTOM
BAND_ORGANIZATION: SINGLE FILE
BAND_CONTENT: BLACK&WHITE
BAND_CONTENT: UNDEFINED
BAND_CONTENT: UNDEFINED
BITS_PER_PIXEL: 8
SAMPLES_AND_LINES: 5379 7647
HORIZONTAL_DATUM: NAD83
HORIZONTAL_COORDINATE_SYSTEM: UTM
COORDINATE_ZONE: 13
HORIZONTAL_UNITS: meters
HORIZONTAL_RESOLUTION: 1.00000
SECONDARY_HORIZONTAL_DATUM: NAD27
XY_ORIGIN: 393854.00000 5400971.00000
SECONDARY_XY_ORIGIN: 393893.66900 5400748.40000
NATION: US
STATE: MT
NW_QUAD_CORNER_XY: 394333.83800 5400661.76100
NE_QUAD_CORNER_XY: 398927.90200 5400576.97000
SE_QUAD_CORNERY_XY: 398802.59000 5393629.73900
SW_QUAD_CORNER_XY: 394202.82800 5393714.55400
SECONDARY_NW_QUAD_XY: 394330.46100 5400442.79500
SECONDARY_NE_QUAD_XY: 398924.67200 5400358.00100
SECONDARY_SE_QUAD_XY: 398799.36000 5393410.77500
SECONDARY_SW_QUAD_XY: 394199.45100 5393495.59300
RMSE_XY: 3.41000
IMAGE_SOURCE: BLACK AND WHITE FILM
SOURCE_IMAGE_ID: NAPP 9109-207
SOURCE_IMAGE_DATE: 1996 8 11
SOURCE_DEM_DATE: 1998 0 0
AGENCY: WESTERN MAPPING CENTER (WMC)
PRODUCER: WOOLPERT LLP
PRODUCTION_SYSTEM: INTERGRAPH ISPM, ISIR
COMPRESSION: UNDEFINED
STANDARD_VERSION: 1996 12
METADATA_DATE: 2001 9 15
DATA_FILE_SIZE: 41138592
BYTE_COUNT: 5379
