FILENAME: O4810624.NES.1164445.tif
QUADRANGLE_NAME: JOHNNYS HILL
QUADRANT: NE
WEST_LONGITUDE: -106 3 45.00000
EAST_LONGITUDE: -106 0 0.00000
NORTH_LATITUDE: 48 45 0.00000
SOUTH_LATITUDE: 48 41 15.00000
PRODUCTION_DATE: 2001 9 15
RASTER_ORDER: LEFT_RIGHT/TOP_BOTTOM
BAND_ORGANIZATION: SINGLE FILE
BAND_CONTENT: BLACK&WHITE
BAND_CONTENT: UNDEFINED
BAND_CONTENT: UNDEFINED
BITS_PER_PIXEL: 8
SAMPLES_AND_LINES: 5344 7624
HORIZONTAL_DATUM: NAD83
HORIZONTAL_COORDINATE_SYSTEM: UTM
COORDINATE_ZONE: 13
HORIZONTAL_UNITS: meters
HORIZONTAL_RESOLUTION: 1.00000
SECONDARY_HORIZONTAL_DATUM: NAD27
XY_ORIGIN: 421454.00000 5400519.00000
SECONDARY_XY_ORIGIN: 421493.59600 5400296.51200
NATION: US
STATE: MT
NW_QUAD_CORNER_XY: 421898.44200 5400209.55600
NE_QUAD_CORNER_XY: 426492.58900 5400147.38100
SE_QUAD_CORNERY_XY: 426401.46000 5393200.02900
SW_QUAD_CORNER_XY: 421801.61600 5393262.22200
SECONDARY_NW_QUAD_XY: 421895.94700 5399990.57600
SECONDARY_NE_QUAD_XY: 426490.24000 5399928.39800
SECONDARY_SE_QUAD_XY: 426399.11100 5392981.05100
SECONDARY_SW_QUAD_XY: 421799.12100 5393043.24600
RMSE_XY: 2.56000
IMAGE_SOURCE: BLACK AND WHITE FILM
SOURCE_IMAGE_ID: NAPP 9122-134
SOURCE_IMAGE_DATE: 1996 9 11
SOURCE_DEM_DATE: 1998 0 0
AGENCY: WESTERN MAPPING CENTER (WMC)
PRODUCER: WOOLPERT LLP
PRODUCTION_SYSTEM: INTERGRAPH ISPM, ISIR
COMPRESSION: UNDEFINED
STANDARD_VERSION: 1996 12
METADATA_DATE: 2001 9 15
DATA_FILE_SIZE: 40748000
BYTE_COUNT: 5344
