FILENAME: O4810625.NWS.1160079.tif
QUADRANGLE_NAME: MILLER SPRINGS
QUADRANT: NW
WEST_LONGITUDE: -107 0 0.00000
EAST_LONGITUDE: -106 56 15.00000
NORTH_LATITUDE: 48 37 30.00000
SOUTH_LATITUDE: 48 33 45.00000
PRODUCTION_DATE: 2001 8 23
RASTER_ORDER: LEFT_RIGHT/TOP_BOTTOM
BAND_ORGANIZATION: SINGLE FILE
BAND_CONTENT: BLACK&WHITE
BAND_CONTENT: UNDEFINED
BAND_CONTENT: UNDEFINED
BITS_PER_PIXEL: 8
SAMPLES_AND_LINES: 5443 7679
HORIZONTAL_DATUM: NAD83
HORIZONTAL_COORDINATE_SYSTEM: UTM
COORDINATE_ZONE: 13
HORIZONTAL_UNITS: meters
HORIZONTAL_RESOLUTION: 1.00000
SECONDARY_HORIZONTAL_DATUM: NAD27
XY_ORIGIN: 352091.00000 5388009.00000
SECONDARY_XY_ORIGIN: 352131.63100 5387787.27300
NATION: US
STATE: MT
NW_QUAD_CORNER_XY: 352623.64700 5387700.72200
NE_QUAD_CORNER_XY: 357228.93500 5387581.93000
SE_QUAD_CORNERY_XY: 357052.67400 5380635.08600
SW_QUAD_CORNER_XY: 352441.69700 5380753.91100
SECONDARY_NW_QUAD_XY: 352618.94900 5387481.79700
SECONDARY_NE_QUAD_XY: 357224.38400 5387363.00000
SECONDARY_SE_QUAD_XY: 357048.12300 5380416.16400
SECONDARY_SW_QUAD_XY: 352436.99900 5380534.99300
RMSE_XY: 2.42000
IMAGE_SOURCE: BLACK AND WHITE FILM
SOURCE_IMAGE_ID: NAPP 9101-049
SOURCE_IMAGE_DATE: 1996 7 15
SOURCE_DEM_DATE: 1994 0 0
AGENCY: WESTERN MAPPING CENTER (WMC)
PRODUCER: WOOLPERT LLP
PRODUCTION_SYSTEM: INTERGRAPH ISPM, ISIR
COMPRESSION: UNDEFINED
STANDARD_VERSION: 1996 12
METADATA_DATE: 2001 8 23
DATA_FILE_SIZE: 41802240
BYTE_COUNT: 5443
